BEGIN:VCALENDAR
VERSION:2.0
PRODID:-//BIKE FUN - ECPv6.15.20//NONSGML v1.0//EN
CALSCALE:GREGORIAN
METHOD:PUBLISH
X-ORIGINAL-URL:https://nashvillebikefun.org
X-WR-CALDESC:Events for BIKE FUN
REFRESH-INTERVAL;VALUE=DURATION:PT1H
X-Robots-Tag:noindex
X-PUBLISHED-TTL:PT1H
BEGIN:VTIMEZONE
TZID:UTC
BEGIN:STANDARD
TZOFFSETFROM:+0000
TZOFFSETTO:+0000
TZNAME:UTC
DTSTART:20190101T000000
END:STANDARD
END:VTIMEZONE
BEGIN:VEVENT
DTSTART;TZID=UTC:20220416T100000
DTEND;TZID=UTC:20220416T140000
DTSTAMP:20260422T190037
CREATED:20220203T202208Z
LAST-MODIFIED:20220204T201947Z
UID:10001696-1650103200-1650117600@nashvillebikefun.org
SUMMARY:Bike Fun Bicycle Revival - April 16\, 2022
DESCRIPTION:Bring your bicycle back to life\nA bicycle revival is an event where bicycles are refreshed and riders can learn more about mechanical magic! Bike Fun will have volunteers on hand to help with the basics: cleaning and lubricating chains\, flat tire repairs\, and brake checks. \nCome bring your bicycle to us\nWe’ll be at Trinity Community Commons\, in the back parking lot\, on Saturday\, April 16th\, from 10am-2pm. First come\, first served – we’ll try to get to everyone! \nFind out how to be good caretaker to your wonderful freedom machine by doing just 3 simple things. \nBike Fun has a mission to create more joyful riders in Middle Tennessee. \nTrinity Community Commons leverages sacred space to affirm and activate the worth and potential of all members of this community. \n\n\n	Related
URL:https://nashvillebikefun.org/event/bike-fun-bicycle-revival-april-16-2022/
LOCATION:Trinity Community Commons\, 204 East Trinity Lane\, Nashville\, TN\, 37027\, United States
CATEGORIES:Class,Hands-on
ATTACH;FMTTYPE=image/png:https://nashvillebikefun.org/wp-content/uploads/2020/01/BicycleRevival-1600px-2021.png
END:VEVENT
BEGIN:VEVENT
DTSTART;TZID=UTC:20211106T110000
DTEND;TZID=UTC:20211106T140000
DTSTAMP:20260422T190037
CREATED:20211021T192208Z
LAST-MODIFIED:20211023T000945Z
UID:10001817-1636196400-1636207200@nashvillebikefun.org
SUMMARY:Bike Fun Bicycle Revival - November 6\, 2021
DESCRIPTION:Bring your bicycle back to life\nA bicycle revival is an event where bicycles are refreshed and riders can learn more about mechanical magic! Bike Fun will have volunteers on hand to help with the basics: cleaning and lubricating chains\, flat tire repairs\, and brake checks. \nCome bring your bicycle to us\nWe’ll be at Trinity Community Commons\, in the back parking lot\, on Saturday\, November 6th\, from 11am-2pm. First come\, first served – we’ll try to get to everyone! \nFind out how to be good caretaker to your wonderful freedom machine with just 3 simple techniques. \nBike Fun has a mission to create more joyful riders in Middle Tennessee. \nTrinity Community Commons leverages sacred space to affirm and activate the worth and potential of all members of this community. \n\n\n	Related
URL:https://nashvillebikefun.org/event/bike-fun-bicycle-revival-november-6-2021/
LOCATION:Trinity Community Commons\, 204 East Trinity Lane\, Nashville\, TN\, 37027\, United States
CATEGORIES:Class
ATTACH;FMTTYPE=image/png:https://nashvillebikefun.org/wp-content/uploads/2020/01/BicycleRevival-1600px-2021.png
END:VEVENT
BEGIN:VEVENT
DTSTART;TZID=UTC:20200321T090000
DTEND;TZID=UTC:20200321T120000
DTSTAMP:20260422T190037
CREATED:20191228T202208Z
LAST-MODIFIED:20200317T010146Z
UID:10001625-1584781200-1584792000@nashvillebikefun.org
SUMMARY:POSTPONED: Bike Fun Bike Lab - March 2020
DESCRIPTION:Bike Lab for March will be POSTPONED until further notice. Stay safe out there & keep it rubber side down. I am hoping to reschedule in April! \nThe Bike Fun Bike Lab is being held once a month in the winter at Trinity Community Commons. Bring your bike and learn more about how to be a thoughtful caregiver for your wonderful freedom machine. Don’t have a bike? I’ll have one you can work on. Drop-in\, casual learning environment. Donations accepted. \nFor the March edition of Bike Fun Bike Lab\, we will focus on brakes and braking systems from 9AM-10:30AM – so the drop in at the first part will look at brake pads\, cable tension\, cable health and strength\, and all the things you need to SLOW or STOP your roll! \nAt these drop-in sessions\, we’ll cover common maintenance issues that you may encounter while riding your bike. We’ll also discuss how to care for your bike to keep it running smoothly. Feel free to bring your own bicycle. I’ll have a bike stand and tools. \nCommon maintenance issues include: \n\nCleaning your drivetrain\nAdjusting tension in cables (brakes and shifting)\nFixing a flat tire\nPatching an inner tube\nGeneral cleaning\nChecking bolts for tightness\nChecking cassette/freewheel and crankset sprockets for wear\n\nPlease note – Bike Fun does not provide actual repair services on bicycles but will be able to advise and assist riders in getting their bikes in shape. \n\n\n	Related
URL:https://nashvillebikefun.org/event/bike-fun-bike-lab-march-2020/
LOCATION:Trinity Community Commons\, 204 East Trinity Lane\, Nashville\, TN\, 37027\, United States
CATEGORIES:Class
ATTACH;FMTTYPE=image/png:https://nashvillebikefun.org/wp-content/uploads/2019/12/2020bikelab.png
END:VEVENT
BEGIN:VEVENT
DTSTART;TZID=UTC:20200222T140000
DTEND;TZID=UTC:20200222T170000
DTSTAMP:20260422T190037
CREATED:20200128T202208Z
LAST-MODIFIED:20200219T045118Z
UID:10001628-1582380000-1582390800@nashvillebikefun.org
SUMMARY:Wheel You Be Mine?
DESCRIPTION:Chase away chafing\, soothe saddle sores\, & cruise comfortably when you learn about women’s-specific cycling health at Wheel You Be Mine? The event will be held Saturday\, February 22\, from 2-5p at Trinity Community Commons in East Nashville. \nOrganizers Taylor Kehrer\, KJ Garner (Bike Fun)\, & Jessica Rinne (Walk Bike Nashville) are creating a space for women to learn about cycling health\, saddle selection\, chamois cream & anti-chafing tactics\, clothing choices\, & more. \nOur featured presenter will be Anna Michelle Napier\, MSN\, CNM & WHNP\, who is eager to provide medically accurate information to the women’s cycling community. \nWhether you ride centuries on the backroads or spin it out indoors\, this event will have something for you. \nTicket price includes raffle entry for products from both product sponsors and local bike shops. \n  \n\n \n\n\n\n\n\n	Related
URL:https://nashvillebikefun.org/event/wheel-you-be-mine/
LOCATION:Trinity Community Commons\, 204 East Trinity Lane\, Nashville\, TN\, 37027\, United States
CATEGORIES:Class
ATTACH;FMTTYPE=image/png:https://nashvillebikefun.org/wp-content/uploads/2019/12/WheelYouFeb2020.png
END:VEVENT
BEGIN:VEVENT
DTSTART;TZID=UTC:20200222T090000
DTEND;TZID=UTC:20200222T120000
DTSTAMP:20260422T190037
CREATED:20191228T202208Z
LAST-MODIFIED:20200204T092543Z
UID:10001624-1582362000-1582372800@nashvillebikefun.org
SUMMARY:Bike Fun Bike Lab - February 2020
DESCRIPTION:The Bike Fun Bike Lab is being held once a month in the winter at Trinity Community Commons. Bring your bike and learn more about how to be a thoughtful caregiver for your wonderful freedom machine. Don’t have a bike? I’ll have one you can work on. Drop-in\, casual learning environment. Donations accepted. \nFor this edition of Bike Fun Bike Lab\, we will focus on fixing a flat tire from 9AM-10:30AM – so the drop in at the first part will look at patching tubes\, changing tubes\, examining tires\, checking rim tape\, and all the other things that you need to know when you’re pumping back up to roll! \nAfter 10:30AM\, we’ll be open for any maintenance-related question you’d like. \nAt these drop-in sessions\, we’ll cover common maintenance issues that you may encounter while riding your bike. We’ll also discuss how to care for your bike to keep it running smoothly. Feel free to bring your own bicycle. I’ll have a bike stand and tools. \nCommon maintenance issues include: \n\nCleaning your drivetrain\nAdjusting tension in cables (brakes and shifting)\nFixing a flat tire\nPatching an inner tube\nGeneral cleaning\nChecking bolts for tightness\nChecking cassette/freewheel and crankset sprockets for wear\n\nPlease note – Bike Fun does not provide actual repair services on bicycles but will be able to advise and assist riders in getting their bikes in shape. \n\n\n	Related
URL:https://nashvillebikefun.org/event/bike-fun-bike-lab-february-2020/
LOCATION:Trinity Community Commons\, 204 East Trinity Lane\, Nashville\, TN\, 37027\, United States
CATEGORIES:Class
ATTACH;FMTTYPE=image/png:https://nashvillebikefun.org/wp-content/uploads/2019/12/2020bikelab.png
END:VEVENT
BEGIN:VEVENT
DTSTART;TZID=UTC:20200118T090000
DTEND;TZID=UTC:20200118T120000
DTSTAMP:20260422T190037
CREATED:20191228T202208Z
LAST-MODIFIED:20200117T214733Z
UID:10001623-1579338000-1579348800@nashvillebikefun.org
SUMMARY:Bike Fun Bike Lab - January 2020
DESCRIPTION:The Bike Fun Bike Lab is being held once a month in the winter at Trinity Community Commons. Bring your bike and learn more about how to be a thoughtful caregiver for your wonderful freedom machine. Don’t have a bike? I’ll have one you can work on. Drop-in\, casual learning environment. Donations accepted. \nAt these drop-in sessions\, we’ll cover common maintenance issues that you may encounter while riding your bike. We’ll also discuss how to care for your bike to keep it running smoothly. Feel free to bring your own bicycle. I’ll have a bike stand and tools. \nCommon maintenance issues include: \n\nCleaning your drivetrain\nAdjusting tension in cables (brakes and shifting)\nFixing a flat tire\nPatching an inner tube\nGeneral cleaning\nChecking bolts for tightness\nChecking cassette/freewheel and crankset sprockets for wear\n\nPlease note – Bike Fun does not provide actual repair services on bicycles but will be able to advise and assist riders in getting their bikes in shape. \n\n\n	Related
URL:https://nashvillebikefun.org/event/bike-fun-bike-lab-january-2020/
LOCATION:Trinity Community Commons\, 204 East Trinity Lane\, Nashville\, TN\, 37027\, United States
CATEGORIES:Class
ATTACH;FMTTYPE=image/png:https://nashvillebikefun.org/wp-content/uploads/2019/12/2020bikelab.png
END:VEVENT
END:VCALENDAR