BEGIN:VCALENDAR
VERSION:2.0
PRODID:-//BIKE FUN - ECPv6.15.20//NONSGML v1.0//EN
CALSCALE:GREGORIAN
METHOD:PUBLISH
X-WR-CALNAME:BIKE FUN
X-ORIGINAL-URL:https://nashvillebikefun.org
X-WR-CALDESC:Events for BIKE FUN
REFRESH-INTERVAL;VALUE=DURATION:PT1H
X-Robots-Tag:noindex
X-PUBLISHED-TTL:PT1H
BEGIN:VTIMEZONE
TZID:America/Chicago
BEGIN:DAYLIGHT
TZOFFSETFROM:-0600
TZOFFSETTO:-0500
TZNAME:CDT
DTSTART:20230312T080000
END:DAYLIGHT
BEGIN:STANDARD
TZOFFSETFROM:-0500
TZOFFSETTO:-0600
TZNAME:CST
DTSTART:20231105T070000
END:STANDARD
BEGIN:DAYLIGHT
TZOFFSETFROM:-0600
TZOFFSETTO:-0500
TZNAME:CDT
DTSTART:20240310T080000
END:DAYLIGHT
BEGIN:STANDARD
TZOFFSETFROM:-0500
TZOFFSETTO:-0600
TZNAME:CST
DTSTART:20241103T070000
END:STANDARD
BEGIN:DAYLIGHT
TZOFFSETFROM:-0600
TZOFFSETTO:-0500
TZNAME:CDT
DTSTART:20250309T080000
END:DAYLIGHT
BEGIN:STANDARD
TZOFFSETFROM:-0500
TZOFFSETTO:-0600
TZNAME:CST
DTSTART:20251102T070000
END:STANDARD
BEGIN:DAYLIGHT
TZOFFSETFROM:-0600
TZOFFSETTO:-0500
TZNAME:CDT
DTSTART:20260308T080000
END:DAYLIGHT
BEGIN:STANDARD
TZOFFSETFROM:-0500
TZOFFSETTO:-0600
TZNAME:CST
DTSTART:20261101T070000
END:STANDARD
END:VTIMEZONE
BEGIN:VEVENT
DTSTART;TZID=America/Chicago:20250605T110000
DTEND;TZID=America/Chicago:20250605T123000
DTSTAMP:20260423T141805
CREATED:20250524T000448Z
LAST-MODIFIED:20250524T000448Z
UID:10002299-1749121200-1749126600@nashvillebikefun.org
SUMMARY:Bike Scootin' Boogie - June 2025
DESCRIPTION:Join Nashville Connector and Bike Fun for a no drop\, casual group ride on Thursday\, June 5th at 11:00 am. We’ll meet at Public Square Park near Union St.\, leaving at 11:05 am. \nBox lunch provided and pre-registration required. A BCycle bike can be provided upon request. PLEASE REGISTER AT THIS LINK to ensure you receive a lunch and/or a BCycle! \nDeparting from Public Square Park\, we’ll be checking out the preparation for CMA Fest and specific intersecting bikeway projects. We will roll around Bridgestone Arena\, up Demonbreun into the Midtown\, Music Row and Vanderbilt areas\, then towards Church St./Athena and back downtown. (Specific route will be posted on the registration site.) \nAs Davidson County’s first transportation demand management program\, Nashville Connector aims to educate residents about all of our transportation options. \nDate: Thursday\, June 5th\nTime: 11 AM – 12:30ish PM\nLocation: Public Square Park (Union Street side)\, Union Street & 3rd Ave N\nRegistration: Click here \nThe closest bus stop is Union Street & 2nd Ave N\, but there are several nearby depending on your route. \nQuestions? Reach out to Nashville Connector at NashConnector@Nashville.gov or by phone at 615-339-4830. \n\n\n	Related
URL:https://nashvillebikefun.org/event/bike-scootin-boogie-june-2025/
LOCATION:Public Square Park\, 194 Union Street\, Nashville\, 37201\, United States
CATEGORIES:Group Ride,Ride
ATTACH;FMTTYPE=image/jpeg:https://nashvillebikefun.org/wp-content/uploads/2025/05/2025-Bike-Scootin-June.jpg
END:VEVENT
BEGIN:VEVENT
DTSTART;TZID=America/Chicago:20241104T110000
DTEND;TZID=America/Chicago:20241104T123000
DTSTAMP:20260423T141805
CREATED:20241029T215050Z
LAST-MODIFIED:20241029T215050Z
UID:10002189-1730718000-1730723400@nashvillebikefun.org
SUMMARY:Bike and Lunch Ride with Nashville Connector - November 2024
DESCRIPTION:From park to park\nCurious about riding a bicycle to work in Nashville? Wondering how to handle the hills\, the sweat\, the stress? Trade that worry for some comfort from several experienced bicycle commuters who will roll you through some of the ways to get started on your two wheeled adventures. \nCome for the lunch\, stay for the learn\n\nJoin the Nashville Connector & KJ Garner of Bike Fun for a Park to Park ride (Public Square Park to Centennial Park). Lunch is provided with pre-registration.\nThis Lunch and Learn will be a group ride with real-life demonstration of how to get around in Nashville using provided infrastructure.\nWe’ll roll to Centennial Park\, have lunch\, then roll back as a group to Public Square Park (riders are welcome to split off as needed).\nNeed a bike? No problem! You’ll get a BCycle pass for your round trip.\nFree lunch is available — registration required. \n\nDate: Monday\, November 4th\nTime: 11 AM-12:30 PM\nLocation: Public Square Park (meet on the Union Street side) \nThe closest bus stop is WeGo Central\, the main downtown bus depot. \nQuestions? Contact us for more specifics. \n\n\n	Related
URL:https://nashvillebikefun.org/event/bike-and-lunch-ride-with-nashville-connector-november-2024/
LOCATION:Public Square Park\, 194 Union Street\, Nashville\, 37201\, United States
CATEGORIES:Group Ride,Ride
ATTACH;FMTTYPE=image/jpeg:https://nashvillebikefun.org/wp-content/uploads/2024/10/2024-11-04-Lunch-Ride-TDM.jpg
END:VEVENT
END:VCALENDAR