BEGIN:VCALENDAR
VERSION:2.0
PRODID:-//BIKE FUN - ECPv6.15.20//NONSGML v1.0//EN
CALSCALE:GREGORIAN
METHOD:PUBLISH
X-ORIGINAL-URL:https://nashvillebikefun.org
X-WR-CALDESC:Events for BIKE FUN
REFRESH-INTERVAL;VALUE=DURATION:PT1H
X-Robots-Tag:noindex
X-PUBLISHED-TTL:PT1H
BEGIN:VTIMEZONE
TZID:UTC
BEGIN:STANDARD
TZOFFSETFROM:+0000
TZOFFSETTO:+0000
TZNAME:UTC
DTSTART:20160101T000000
END:STANDARD
END:VTIMEZONE
BEGIN:VEVENT
DTSTART;TZID=UTC:20170131T100000
DTEND;TZID=UTC:20170131T110000
DTSTAMP:20260421T053730
CREATED:20161119T054423Z
LAST-MODIFIED:20161119T064552Z
UID:10001887-1485856800-1485860400@nashvillebikefun.org
SUMMARY:FiftyForward Madison Station: Back in the Saddle Again: Riding at Any Age
DESCRIPTION:As part of the 3rd annual Post-Holiday Wellness Retreat\, KJ Garner\, owner of Bike Fun\, Inc.\, will offer compelling insight about how riding a bicycle can benefit you mentally\, physically\, and emotionally. Ms. Garner is a Licensed Cycling Instructor through the League of American Bicyclists and rides a bike in Nashville (and all over the world) for transportation and enjoyment. She’ll review riding options\, challenges\, and help you get on the right pedal stroke for the new year. \nThis presentation is open to members of FiftyForward only. Find out about membership at the Madison Station location. \n\n\n	Related
URL:https://nashvillebikefun.org/event/fiftyforward-madison-station-back-in-the-saddle-again-riding-at-any-age/
LOCATION:FiftyForward Madison Station\, 301 Madison Street\, Madison\, TN\, 37115\, United States
CATEGORIES:Presentation
ATTACH;FMTTYPE=image/jpeg:https://nashvillebikefun.org/wp-content/uploads/2016/11/logo_fiftyforward.jpg
END:VEVENT
END:VCALENDAR