BEGIN:VCALENDAR
VERSION:2.0
PRODID:-//BIKE FUN - ECPv6.15.20//NONSGML v1.0//EN
CALSCALE:GREGORIAN
METHOD:PUBLISH
X-ORIGINAL-URL:https://nashvillebikefun.org
X-WR-CALDESC:Events for BIKE FUN
REFRESH-INTERVAL;VALUE=DURATION:PT1H
X-Robots-Tag:noindex
X-PUBLISHED-TTL:PT1H
BEGIN:VTIMEZONE
TZID:America/Chicago
BEGIN:DAYLIGHT
TZOFFSETFROM:-0600
TZOFFSETTO:-0500
TZNAME:CDT
DTSTART:20220313T080000
END:DAYLIGHT
BEGIN:STANDARD
TZOFFSETFROM:-0500
TZOFFSETTO:-0600
TZNAME:CST
DTSTART:20221106T070000
END:STANDARD
BEGIN:DAYLIGHT
TZOFFSETFROM:-0600
TZOFFSETTO:-0500
TZNAME:CDT
DTSTART:20230312T080000
END:DAYLIGHT
BEGIN:STANDARD
TZOFFSETFROM:-0500
TZOFFSETTO:-0600
TZNAME:CST
DTSTART:20231105T070000
END:STANDARD
BEGIN:DAYLIGHT
TZOFFSETFROM:-0600
TZOFFSETTO:-0500
TZNAME:CDT
DTSTART:20240310T080000
END:DAYLIGHT
BEGIN:STANDARD
TZOFFSETFROM:-0500
TZOFFSETTO:-0600
TZNAME:CST
DTSTART:20241103T070000
END:STANDARD
END:VTIMEZONE
BEGIN:VEVENT
DTSTART;TZID=America/Chicago:20231119T130000
DTEND;TZID=America/Chicago:20231119T150000
DTSTAMP:20260422T155244
CREATED:20231004T175545Z
LAST-MODIFIED:20231004T182328Z
UID:10002094-1700398800-1700406000@nashvillebikefun.org
SUMMARY:All Bodies Ride with Walk Bike Nashville - November 2023
DESCRIPTION:Celebrate freedom of movement\nDuring the past several years\, we have watched with giddy happiness as over 100 adult students have learned to ride a bicycle. Come celebrate your success with us and other learn to ride students at this special All Bodies Ride! Bring your family\, your friends\, and let’s all ride together. \nWe will have a mini Learn to Ride session before the ride if you need refresher tips. It will last for one hour and is not intended for brand new learners. \nThis slideshow requires JavaScript. \nEvent Details\nOn Sunday\, November 19th\, 2023\, Walk Bike Nashville hosts an All Bodies Ride event. Bring friends\, family\, and loved ones to enjoy a casual bike ride together. \nWalk Bike Nashville and Bike Fun can provide bicycles and helmets for those who need them (some bicycles may need to be shared depending on the number of participants). \nFor riders who may still be working on their handling skills\, we will focus on the airpark track itself. For riders who are more advanced\, there will be a group that rides on the Shelby Bottoms Greenway. \nDate: Sunday\, November 19th\nTime: 1pm-3pm (refresher bike skills session at 12 noon sharp)\nRegister: REGISTRATION FORM – you must register so we know who is coming and what size bike to have for you if needed!\nLocation: Cornelia Fort Airpark\, 1199 Shadow Lane\, 37206 \nQuestions? Contact KJ for more specifics.
URL:https://nashvillebikefun.org/event/all-bodies-ride-november-2023/
LOCATION:Cornelia Fort Airpark\, 1099 Shadow Lane\, Nashville\, TN\, 37206\, United States
CATEGORIES:Group Ride,Ride
ATTACH;FMTTYPE=image/png:https://nashvillebikefun.org/wp-content/uploads/2021/09/WBN-1600px-2021.png
ORGANIZER;CN="Walk Bike Nashville":MAILTO:ashleigh@walkbikenashville.org
END:VEVENT
END:VCALENDAR