BEGIN:VCALENDAR
VERSION:2.0
PRODID:-//BIKE FUN - ECPv6.15.20//NONSGML v1.0//EN
CALSCALE:GREGORIAN
METHOD:PUBLISH
X-ORIGINAL-URL:https://nashvillebikefun.org
X-WR-CALDESC:Events for BIKE FUN
REFRESH-INTERVAL;VALUE=DURATION:PT1H
X-Robots-Tag:noindex
X-PUBLISHED-TTL:PT1H
BEGIN:VTIMEZONE
TZID:America/Chicago
BEGIN:DAYLIGHT
TZOFFSETFROM:-0600
TZOFFSETTO:-0500
TZNAME:CDT
DTSTART:20220313T080000
END:DAYLIGHT
BEGIN:STANDARD
TZOFFSETFROM:-0500
TZOFFSETTO:-0600
TZNAME:CST
DTSTART:20221106T070000
END:STANDARD
BEGIN:DAYLIGHT
TZOFFSETFROM:-0600
TZOFFSETTO:-0500
TZNAME:CDT
DTSTART:20230312T080000
END:DAYLIGHT
BEGIN:STANDARD
TZOFFSETFROM:-0500
TZOFFSETTO:-0600
TZNAME:CST
DTSTART:20231105T070000
END:STANDARD
BEGIN:DAYLIGHT
TZOFFSETFROM:-0600
TZOFFSETTO:-0500
TZNAME:CDT
DTSTART:20240310T080000
END:DAYLIGHT
BEGIN:STANDARD
TZOFFSETFROM:-0500
TZOFFSETTO:-0600
TZNAME:CST
DTSTART:20241103T070000
END:STANDARD
END:VTIMEZONE
BEGIN:VEVENT
DTSTART;TZID=America/Chicago:20230716T100000
DTEND;TZID=America/Chicago:20230716T130000
DTSTAMP:20260422T225929
CREATED:20230523T155059Z
LAST-MODIFIED:20230621T153639Z
UID:10002010-1689501600-1689512400@nashvillebikefun.org
SUMMARY:Adult Learn to Ride  - July 2023
DESCRIPTION:Get Rolling on Your Bicycle Journey\nBike Fun is lead teaching a course for adults on learning (or relearning) how to ride a bicycle. This course is meant for brand new riders and for potential riders who are anxious about getting back on a bicycle after a long time away. Walk Bike Nashville is sponsoring the course. \nDo you know someone who never learned to ride a bike as a child but has always wanted to? Do you feel like you could use a refresher after a long\, long time away? Then we have something just for you! \nClass Details\nOn Sunday\, July 16th\, 2023\, Walk Bike Nashville hosts an Adult Learn to Ride event. Get started on your bike life! \nThis course is for people who have never pedaled a bicycle before or who have been away for decades! It will cover the following topics: \n\nGetting onto the bike\nBasic balance\nStarting and stopping\nPedaling\nTurning\n\nCome learn how to ride in a safe and supportive environment. \nAges 18+. Bicycles and helmets are provided. If you have your own bicycle\, you may bring it for us to assess for size\, functionality\, etc. \nBring water\, snack\, and wear comfortable clothing. \nDate: Sunday\, July 16th\, 2023\nTime: 10a-1p\nRegister: REGISTRATION FORM – you must register so we know what size bike to have for you!\nLocation: Congregation Ohabai Sholom\, 5015 Harding Pike\, Nashville\, TN 37205 \nQuestions? Contact KJ for more specifics.
URL:https://nashvillebikefun.org/event/adult-learn-to-ride-july-2023/
LOCATION:The Temple\, 5015 Harding Pike\, Nashville\, TN\, 37205\, United States
CATEGORIES:Class,Hands-on
ATTACH;FMTTYPE=image/png:https://nashvillebikefun.org/wp-content/uploads/2021/09/WBN-1600px-2021.png
ORGANIZER;CN="Walk Bike Nashville":MAILTO:ashleigh@walkbikenashville.org
END:VEVENT
END:VCALENDAR