BEGIN:VCALENDAR
VERSION:2.0
PRODID:-//BIKE FUN - ECPv6.15.20//NONSGML v1.0//EN
CALSCALE:GREGORIAN
METHOD:PUBLISH
X-WR-CALNAME:BIKE FUN
X-ORIGINAL-URL:https://nashvillebikefun.org
X-WR-CALDESC:Events for BIKE FUN
REFRESH-INTERVAL;VALUE=DURATION:PT1H
X-Robots-Tag:noindex
X-PUBLISHED-TTL:PT1H
BEGIN:VTIMEZONE
TZID:America/Chicago
BEGIN:DAYLIGHT
TZOFFSETFROM:-0600
TZOFFSETTO:-0500
TZNAME:CDT
DTSTART:20240310T080000
END:DAYLIGHT
BEGIN:STANDARD
TZOFFSETFROM:-0500
TZOFFSETTO:-0600
TZNAME:CST
DTSTART:20241103T070000
END:STANDARD
BEGIN:DAYLIGHT
TZOFFSETFROM:-0600
TZOFFSETTO:-0500
TZNAME:CDT
DTSTART:20250309T080000
END:DAYLIGHT
BEGIN:STANDARD
TZOFFSETFROM:-0500
TZOFFSETTO:-0600
TZNAME:CST
DTSTART:20251102T070000
END:STANDARD
BEGIN:DAYLIGHT
TZOFFSETFROM:-0600
TZOFFSETTO:-0500
TZNAME:CDT
DTSTART:20260308T080000
END:DAYLIGHT
BEGIN:STANDARD
TZOFFSETFROM:-0500
TZOFFSETTO:-0600
TZNAME:CST
DTSTART:20261101T070000
END:STANDARD
END:VTIMEZONE
BEGIN:VEVENT
DTSTART;TZID=America/Chicago:20250502T110000
DTEND;TZID=America/Chicago:20250502T130000
DTSTAMP:20260423T141836
CREATED:20250424T160317Z
LAST-MODIFIED:20250424T160317Z
UID:10002268-1746183600-1746190800@nashvillebikefun.org
SUMMARY:Bike Commuting 101: Rock Your Ride to Work
DESCRIPTION:A vehicle is just an expensive raincoat\nCurious about riding a bicycle to work in Nashville? Wondering how to handle the hills\, the sweat\, the stress? Trade that worry for some comfort from several experienced bicycle commuters who will roll you through some of the ways to get started on your two wheeled adventures. \nCome for the lunch\, stay for the learn\n\nJoin the Nashville Connector\, Bike Fun\, & local bicycle community guests on May 2 from 11 am to 1 pm for classroom style\, hands-on training on bike commuting.\nThis Lunch and Learn will provide an overview on bike community and have tips and tricks on how to safely get to and from your destination.\nFree lunch is provided– registration required. \n\nDate: Friday\, May 2nd\nTime: 11 AM-1 PM\nLocation: Nashville Public Library East Branch\, 206 Gallatin Ave 37206 \nLimited bike parking is available in front of the building. The closest bus stop is the Five Points station (inbound/outbound) for the 56. \nQuestions? Contact us for more specifics.
URL:https://nashvillebikefun.org/event/bike-commuting-101-rock-your-ride-to-work/
LOCATION:Nashville Public Library\, East Branch\, 206 Gallatin Ave\, Nashville\, 37206\, United States
CATEGORIES:Presentation,Seminar
ATTACH;FMTTYPE=image/jpeg:https://nashvillebikefun.org/wp-content/uploads/2025/04/2025-05-02-Commuting.jpg
END:VEVENT
END:VCALENDAR