BEGIN:VCALENDAR
VERSION:2.0
PRODID:-//BIKE FUN - ECPv6.15.20//NONSGML v1.0//EN
CALSCALE:GREGORIAN
METHOD:PUBLISH
X-ORIGINAL-URL:https://nashvillebikefun.org
X-WR-CALDESC:Events for BIKE FUN
REFRESH-INTERVAL;VALUE=DURATION:PT1H
X-Robots-Tag:noindex
X-PUBLISHED-TTL:PT1H
BEGIN:VTIMEZONE
TZID:America/Chicago
BEGIN:DAYLIGHT
TZOFFSETFROM:-0600
TZOFFSETTO:-0500
TZNAME:CDT
DTSTART:20230312T080000
END:DAYLIGHT
BEGIN:STANDARD
TZOFFSETFROM:-0500
TZOFFSETTO:-0600
TZNAME:CST
DTSTART:20231105T070000
END:STANDARD
BEGIN:DAYLIGHT
TZOFFSETFROM:-0600
TZOFFSETTO:-0500
TZNAME:CDT
DTSTART:20240310T080000
END:DAYLIGHT
BEGIN:STANDARD
TZOFFSETFROM:-0500
TZOFFSETTO:-0600
TZNAME:CST
DTSTART:20241103T070000
END:STANDARD
BEGIN:DAYLIGHT
TZOFFSETFROM:-0600
TZOFFSETTO:-0500
TZNAME:CDT
DTSTART:20250309T080000
END:DAYLIGHT
BEGIN:STANDARD
TZOFFSETFROM:-0500
TZOFFSETTO:-0600
TZNAME:CST
DTSTART:20251102T070000
END:STANDARD
END:VTIMEZONE
BEGIN:VEVENT
DTSTART;TZID=America/Chicago:20240908T160000
DTEND;TZID=America/Chicago:20240908T180000
DTSTAMP:20260423T085847
CREATED:20240813T013555Z
LAST-MODIFIED:20240813T013555Z
UID:10002170-1725811200-1725818400@nashvillebikefun.org
SUMMARY:9 & 10 Year Old Learn to Ride - September 2024
DESCRIPTION:You’re Never Too Old to Learn to Ride!\nThis course is for brand new riders who have either only pedaled on training wheels or who have tried without success to ride without training wheels. \nYou must register to attend – fill out this registration form! Class size limited to 5 students. Registration fee is $15-25. Income based scholarships available. \nDo you know a 9 or 10 year old who needs some help getting going on two wheels? Then we have something just for you! \nClass Details\nBike Fun is hosting a 9 & 10 Year Old Learn to Ride event. Get your kid started on their bicycling journey! \nThis course is for 9 and 10 year olds who have never pedaled a bicycle without training wheels. It covers the following topics: \n\nGetting onto the bike\nBasic balance\nStarting and stopping\nPedaling\nTurning\n\nCome learn how to ride in a safe and supportive environment. \nFor our learn to ride classes\, we emphasize exposure\, not expertise. Each human learns at their own pace\, and we work with each student within their own ability. \nAges 9 & 10. Bicycles and helmets can be provided for those who would like to attend\, but don’t have their own bicycle yet. Please bring a water bottle/hydration and a snack! Bike Fun has limited snacks available and will have extra water. \nDate: Sunday\, September 8th\nTime: 4-6 PM\nLocation: Bellevue UMC\, Nashville 37221 \nQuestions? Contact us for more specifics.
URL:https://nashvillebikefun.org/event/9-10-year-old-learn-to-ride-september-2024/
LOCATION:Bellevue UMC\, 7501 Old Harding Pike\, Nashville\, 37221
CATEGORIES:Class,Hands-on
ATTACH;FMTTYPE=image/png:https://nashvillebikefun.org/wp-content/uploads/2022/08/LearntoRide9-10YearOlds2022.png
END:VEVENT
BEGIN:VEVENT
DTSTART;TZID=America/Chicago:20240921T140000
DTEND;TZID=America/Chicago:20240921T160000
DTSTAMP:20260423T085847
CREATED:20240813T003849Z
LAST-MODIFIED:20240813T003849Z
UID:10002169-1726927200-1726934400@nashvillebikefun.org
SUMMARY:5 & 6 Year Old Learn to Ride - September 2024
DESCRIPTION:You’re Never Too Old to Learn to Ride!\nThis course is for brand new riders who have either only pedaled on training wheels or who have tried without success to ride without training wheels. \nYou must register to attend – fill out this registration form! Class size limited to 5 students. Registration fee is $15-25. Income based scholarships available. \nDo you know a 5 or 6 year old who needs some help getting going on two wheels? Then we have something just for you! \nClass Details\nBike Fun is hosting a 5 & 6 Year Old Learn to Ride event. Get your kid started on their bicycling journey! \nThis course is for 5 and 6 year olds who have never pedaled a bicycle without training wheels. It covers the following topics: \n\nGetting onto the bike\nBasic balance\nStarting and stopping\nPedaling\nTurning\n\nCome learn how to ride in a safe and supportive environment. \nFor our learn to ride classes\, we emphasize exposure\, not expertise. Each human learns at their own pace\, and we work with each student within their own ability. \nAges 5 & 6. Bicycles and helmets can be provided for those who would like to attend\, but don’t have their own bicycle yet. Please bring a water bottle/hydration and a snack! Bike Fun has limited snacks available and will have extra water. \nDate: Saturday\, September 21st\nTime: 2-4 PM\nLocation: Cosecha Community at Woodbine UMC\, Nashville 37211 \nQuestions? Contact us for more specifics.
URL:https://nashvillebikefun.org/event/5-6-year-old-learn-to-ride-september-2024/
LOCATION:Cosecha Community\, 2621 Nolensville Pike\, Nashville\, 37211\, United States
CATEGORIES:Class,Hands-on
ATTACH;FMTTYPE=image/png:https://nashvillebikefun.org/wp-content/uploads/2023/01/LearntoRide5-6YearOlds2023.png
END:VEVENT
END:VCALENDAR