BEGIN:VCALENDAR
VERSION:2.0
PRODID:-//BIKE FUN - ECPv6.15.20//NONSGML v1.0//EN
CALSCALE:GREGORIAN
METHOD:PUBLISH
X-ORIGINAL-URL:https://nashvillebikefun.org
X-WR-CALDESC:Events for BIKE FUN
REFRESH-INTERVAL;VALUE=DURATION:PT1H
X-Robots-Tag:noindex
X-PUBLISHED-TTL:PT1H
BEGIN:VTIMEZONE
TZID:America/Chicago
BEGIN:DAYLIGHT
TZOFFSETFROM:-0600
TZOFFSETTO:-0500
TZNAME:CDT
DTSTART:20240310T080000
END:DAYLIGHT
BEGIN:STANDARD
TZOFFSETFROM:-0500
TZOFFSETTO:-0600
TZNAME:CST
DTSTART:20241103T070000
END:STANDARD
BEGIN:DAYLIGHT
TZOFFSETFROM:-0600
TZOFFSETTO:-0500
TZNAME:CDT
DTSTART:20250309T080000
END:DAYLIGHT
BEGIN:STANDARD
TZOFFSETFROM:-0500
TZOFFSETTO:-0600
TZNAME:CST
DTSTART:20251102T070000
END:STANDARD
BEGIN:DAYLIGHT
TZOFFSETFROM:-0600
TZOFFSETTO:-0500
TZNAME:CDT
DTSTART:20260308T080000
END:DAYLIGHT
BEGIN:STANDARD
TZOFFSETFROM:-0500
TZOFFSETTO:-0600
TZNAME:CST
DTSTART:20261101T070000
END:STANDARD
END:VTIMEZONE
BEGIN:VEVENT
DTSTART;TZID=America/Chicago:20250504T100000
DTEND;TZID=America/Chicago:20250504T120000
DTSTAMP:20260421T172732
CREATED:20250330T211754Z
LAST-MODIFIED:20250503T170800Z
UID:10002263-1746352800-1746360000@nashvillebikefun.org
SUMMARY:#coffeeoutside ride for Bike Month - May 2025
DESCRIPTION:Join us for a social\, casual\, group bike ride. On-street and trailways. We’ll have coffee from 8th & Roast at the start (drip coffee provided; other beverages + snacks on your own)! This is a no drop ride\, around 10-15 miles max. \nLet us know you’re coming so we can ensure rider cohesion and safety! \nRide meets at 10:00 a.m. / wheels down at 10:30 a.m. \nDon’t have a bike? Borrow a BCycle from the station at 21st & Broadway. \n 
URL:https://nashvillebikefun.org/event/coffeeoutside-ride-for-bike-month-may-2025/
LOCATION:8th & Roast – Midtown\, 116 20th Ave S\, Nashville\, TN\, 37203\, United States
CATEGORIES:Group Ride,Ride
ATTACH;FMTTYPE=image/jpeg:https://nashvillebikefun.org/wp-content/uploads/2022/03/eighthandroastbaglogo2022.jpg
END:VEVENT
END:VCALENDAR