BEGIN:VCALENDAR
VERSION:2.0
PRODID:-//BIKE FUN - ECPv6.15.20//NONSGML v1.0//EN
CALSCALE:GREGORIAN
METHOD:PUBLISH
X-ORIGINAL-URL:https://nashvillebikefun.org
X-WR-CALDESC:Events for BIKE FUN
REFRESH-INTERVAL;VALUE=DURATION:PT1H
X-Robots-Tag:noindex
X-PUBLISHED-TTL:PT1H
BEGIN:VTIMEZONE
TZID:America/Chicago
BEGIN:DAYLIGHT
TZOFFSETFROM:-0600
TZOFFSETTO:-0500
TZNAME:CDT
DTSTART:20240310T080000
END:DAYLIGHT
BEGIN:STANDARD
TZOFFSETFROM:-0500
TZOFFSETTO:-0600
TZNAME:CST
DTSTART:20241103T070000
END:STANDARD
BEGIN:DAYLIGHT
TZOFFSETFROM:-0600
TZOFFSETTO:-0500
TZNAME:CDT
DTSTART:20250309T080000
END:DAYLIGHT
BEGIN:STANDARD
TZOFFSETFROM:-0500
TZOFFSETTO:-0600
TZNAME:CST
DTSTART:20251102T070000
END:STANDARD
BEGIN:DAYLIGHT
TZOFFSETFROM:-0600
TZOFFSETTO:-0500
TZNAME:CDT
DTSTART:20260308T080000
END:DAYLIGHT
BEGIN:STANDARD
TZOFFSETFROM:-0500
TZOFFSETTO:-0600
TZNAME:CST
DTSTART:20261101T070000
END:STANDARD
END:VTIMEZONE
BEGIN:VEVENT
DTSTART;TZID=America/Chicago:20250405T100000
DTEND;TZID=America/Chicago:20250405T130000
DTSTAMP:20260421T191149
CREATED:20250106T211902Z
LAST-MODIFIED:20250402T231403Z
UID:10002198-1743847200-1743858000@nashvillebikefun.org
SUMMARY:CANCELLED - 30 Days of Biking Kick-off for 2025
DESCRIPTION:Unfortunately\, we’re looking at some wet weather coming our way – lots of it!\nIn order to respect everyone’s time and energy\, we are CANCELLING this event for this year. \nLook for another social and fun coffee ride coming in May! \nHooray for 30 Days of Biking!\nA Bike Fun group ride to celebrate the start of 30 Days of Biking! The ride will roll for about 10-15 miles and is casual paced\, no drop. We’ll split into 2 speed groups to make rolling more efficient! RSVP here (it’s free\, we just want to know how many people to expect). \nAll ages welcomed\nWant to bring your kids? We’ll have a turnaround spot for young riders at about 3 1/2 miles in. \nNeed a bike?\nBike Fun can provide bikes for adults or kids (no training wheels). Limited bikes available – contact us by Wednesday\, April 2nd to confirm. \nSchedule of events\nMeet: Trailhead at Ted Rhodes Golf Course\, 1901 Ed Temple Blvd \nTime: 10AM meet\, 10:15AM greetings & roll out \nHow far: 10-15 miles round trip\, with a conversation stop in the middle. Brief pause at turnaround spot at 3 1/2 miles for young riders \nWho: Any rider who wants to make new bike friends and enjoy a casual\, no drop roll along the river and on neighborhood streets. \nTHIS EVENT IS RAIN OR SHINE (but not if heavy rain or lightning)
URL:https://nashvillebikefun.org/event/30-days-of-biking-kick-off-for-2025/
LOCATION:TN
CATEGORIES:30 Days of Biking,Group Ride,Ride
ATTACH;FMTTYPE=image/png:https://nashvillebikefun.org/wp-content/uploads/2025/01/2025-04-05-30DaysRide.png
END:VEVENT
END:VCALENDAR