BEGIN:VCALENDAR
VERSION:2.0
PRODID:-//BIKE FUN - ECPv6.15.20//NONSGML v1.0//EN
CALSCALE:GREGORIAN
METHOD:PUBLISH
X-ORIGINAL-URL:https://nashvillebikefun.org
X-WR-CALDESC:Events for BIKE FUN
REFRESH-INTERVAL;VALUE=DURATION:PT1H
X-Robots-Tag:noindex
X-PUBLISHED-TTL:PT1H
BEGIN:VTIMEZONE
TZID:America/New_York
BEGIN:DAYLIGHT
TZOFFSETFROM:-0500
TZOFFSETTO:-0400
TZNAME:EDT
DTSTART:20220313T070000
END:DAYLIGHT
BEGIN:STANDARD
TZOFFSETFROM:-0400
TZOFFSETTO:-0500
TZNAME:EST
DTSTART:20221106T060000
END:STANDARD
BEGIN:DAYLIGHT
TZOFFSETFROM:-0500
TZOFFSETTO:-0400
TZNAME:EDT
DTSTART:20230312T070000
END:DAYLIGHT
BEGIN:STANDARD
TZOFFSETFROM:-0400
TZOFFSETTO:-0500
TZNAME:EST
DTSTART:20231105T060000
END:STANDARD
BEGIN:DAYLIGHT
TZOFFSETFROM:-0500
TZOFFSETTO:-0400
TZNAME:EDT
DTSTART:20240310T070000
END:DAYLIGHT
BEGIN:STANDARD
TZOFFSETFROM:-0400
TZOFFSETTO:-0500
TZNAME:EST
DTSTART:20241103T060000
END:STANDARD
END:VTIMEZONE
BEGIN:VEVENT
DTSTART;TZID=America/New_York:20231201T100000
DTEND;TZID=America/New_York:20231201T170000
DTSTAMP:20260421T072337
CREATED:20231106T231623Z
LAST-MODIFIED:20231106T231623Z
UID:10002111-1701424800-1701450000@nashvillebikefun.org
SUMMARY:One-on-One Bicycle Lessons - Fri\, December 01\, 2023
DESCRIPTION:Get a bicycle boost with Bike Fun\nDo you or someone you know need a little extra help learning how to ride\, or learning how to ride better? Want one-on-one bike maintenance lessons? One-on-one bicycle or bicycle maintenance lessons are available to help! Small groups – five or fewer – are welcome as well. \nLessons\, classes\, & workshops\nLessons are one hour each and are held outside. For bicycle lessons\, Bike Fun can meet you at locations from southern Sumner to northern Williamson Counties\, including locations in South Nashville\, East Nashville\, and West Nashville. For bicycle maintenance lessons\, Bike Fun can come to your house and set up outside. \nContact us to get on the schedule!   \nFind out more about Bike Fun safety protocols & weather awareness.
URL:https://nashvillebikefun.org/event/one-on-one-bicycle-lessons-fri-december-01-2023/
LOCATION:TN
CATEGORIES:Class,Lessons
ATTACH;FMTTYPE=image/png:https://nashvillebikefun.org/wp-content/uploads/2021/09/BikeFundotOrg-1600px-2021.png
END:VEVENT
BEGIN:VEVENT
DTSTART;TZID=America/New_York:20231202T100000
DTEND;TZID=America/New_York:20231202T170000
DTSTAMP:20260421T072337
CREATED:20231106T230820Z
LAST-MODIFIED:20231106T230820Z
UID:10002108-1701511200-1701536400@nashvillebikefun.org
SUMMARY:One-on-One Bicycle Lessons - Sat\, December 02\, 2023
DESCRIPTION:Get a bicycle boost with Bike Fun\nDo you or someone you know need a little extra help learning how to ride\, or learning how to ride better? Want one-on-one bike maintenance lessons? One-on-one bicycle or bicycle maintenance lessons are available to help! Small groups – five or fewer – are welcome as well. \nLessons\, classes\, & workshops\nLessons are one hour each and are held outside. For bicycle lessons\, Bike Fun can meet you at locations from southern Sumner to northern Williamson Counties\, including locations in South Nashville\, East Nashville\, and West Nashville. For bicycle maintenance lessons\, Bike Fun can come to your house and set up outside. \nContact us to get on the schedule!   \nFind out more about Bike Fun safety protocols & weather awareness.
URL:https://nashvillebikefun.org/event/one-on-one-bicycle-lessons-sat-december-02-2023/
LOCATION:TN
CATEGORIES:Class,Lessons
ATTACH;FMTTYPE=image/png:https://nashvillebikefun.org/wp-content/uploads/2021/09/BikeFundotOrg-1600px-2021.png
END:VEVENT
END:VCALENDAR