BEGIN:VCALENDAR
VERSION:2.0
PRODID:-//BIKE FUN - ECPv6.15.20//NONSGML v1.0//EN
CALSCALE:GREGORIAN
METHOD:PUBLISH
X-WR-CALNAME:BIKE FUN
X-ORIGINAL-URL:https://nashvillebikefun.org
X-WR-CALDESC:Events for BIKE FUN
REFRESH-INTERVAL;VALUE=DURATION:PT1H
X-Robots-Tag:noindex
X-PUBLISHED-TTL:PT1H
BEGIN:VTIMEZONE
TZID:America/Chicago
BEGIN:DAYLIGHT
TZOFFSETFROM:-0600
TZOFFSETTO:-0500
TZNAME:CDT
DTSTART:20240310T080000
END:DAYLIGHT
BEGIN:STANDARD
TZOFFSETFROM:-0500
TZOFFSETTO:-0600
TZNAME:CST
DTSTART:20241103T070000
END:STANDARD
BEGIN:DAYLIGHT
TZOFFSETFROM:-0600
TZOFFSETTO:-0500
TZNAME:CDT
DTSTART:20250309T080000
END:DAYLIGHT
BEGIN:STANDARD
TZOFFSETFROM:-0500
TZOFFSETTO:-0600
TZNAME:CST
DTSTART:20251102T070000
END:STANDARD
BEGIN:DAYLIGHT
TZOFFSETFROM:-0600
TZOFFSETTO:-0500
TZNAME:CDT
DTSTART:20260308T080000
END:DAYLIGHT
BEGIN:STANDARD
TZOFFSETFROM:-0500
TZOFFSETTO:-0600
TZNAME:CST
DTSTART:20261101T070000
END:STANDARD
END:VTIMEZONE
BEGIN:VEVENT
DTSTART;TZID=America/Chicago:20250208T100000
DTEND;TZID=America/Chicago:20250208T140000
DTSTAMP:20260419T110117
CREATED:20250114T033753Z
LAST-MODIFIED:20250114T033753Z
UID:10002222-1739008800-1739023200@nashvillebikefun.org
SUMMARY:Bike Lab Volunteer Session - February 2025
DESCRIPTION:Help us get some bikes cleaned!\n\nWe’re in need of some cleaning for bikes that have been in a dusty storage situation.\nIf you’ve got basic mechanical skills\, we’ll also be making adjustments either simple single speed kids bikes or (less likely) geared\, hand brake bikes.\nDrop by anytime during the hours of 10am and 1pm. We’ll wrap up by 2pm.\nIf it’s not too cold\, we’ll be in the back parking lot. If it’s cold or raining\, we will be inside the Bike Fun Bike Lab.\nMeet us at Woodbine UMC\, between Nolensville Pike and Grandview Ave.\n\nBike Fun will supply rags\, soap\, water\, degreaser\, etc. Wear clothes you don’t mind getting dirty. If there’s interest\, we’ll order some lunch! \nWe’ll be working RAIN OR SHINE with an indoor plan if needed!
URL:https://nashvillebikefun.org/event/bike-lab-volunteer-session-february-2025/
LOCATION:Cosecha Community\, 2621 Nolensville Pike\, Nashville\, 37211\, United States
CATEGORIES:Hands-on,Volunteer
ATTACH;FMTTYPE=image/jpeg:https://nashvillebikefun.org/wp-content/uploads/2024/08/1600-Old-Bike.jpg
END:VEVENT
END:VCALENDAR