BEGIN:VCALENDAR
VERSION:2.0
PRODID:-//BIKE FUN - ECPv6.15.20//NONSGML v1.0//EN
CALSCALE:GREGORIAN
METHOD:PUBLISH
X-WR-CALNAME:BIKE FUN
X-ORIGINAL-URL:https://nashvillebikefun.org
X-WR-CALDESC:Events for BIKE FUN
REFRESH-INTERVAL;VALUE=DURATION:PT1H
X-Robots-Tag:noindex
X-PUBLISHED-TTL:PT1H
BEGIN:VTIMEZONE
TZID:America/Chicago
BEGIN:DAYLIGHT
TZOFFSETFROM:-0600
TZOFFSETTO:-0500
TZNAME:CDT
DTSTART:20240310T080000
END:DAYLIGHT
BEGIN:STANDARD
TZOFFSETFROM:-0500
TZOFFSETTO:-0600
TZNAME:CST
DTSTART:20241103T070000
END:STANDARD
BEGIN:DAYLIGHT
TZOFFSETFROM:-0600
TZOFFSETTO:-0500
TZNAME:CDT
DTSTART:20250309T080000
END:DAYLIGHT
BEGIN:STANDARD
TZOFFSETFROM:-0500
TZOFFSETTO:-0600
TZNAME:CST
DTSTART:20251102T070000
END:STANDARD
BEGIN:DAYLIGHT
TZOFFSETFROM:-0600
TZOFFSETTO:-0500
TZNAME:CDT
DTSTART:20260308T080000
END:DAYLIGHT
BEGIN:STANDARD
TZOFFSETFROM:-0500
TZOFFSETTO:-0600
TZNAME:CST
DTSTART:20261101T070000
END:STANDARD
END:VTIMEZONE
BEGIN:VEVENT
DTSTART;TZID=America/Chicago:20250908T170000
DTEND;TZID=America/Chicago:20250908T183000
DTSTAMP:20260421T104935
CREATED:20250512T144142Z
LAST-MODIFIED:20251220T195557Z
UID:10002292-1757350800-1757356200@nashvillebikefun.org
SUMMARY:Pedal the Park with Friends of Shelby
DESCRIPTION:Take a ride in the park with Friends of Shelby and Bike Fun! Twice a month\, we’ll cruise around Shelby Park starting from the Shelby Bottoms Nature Center Trailhead for a casual\, no-drop ride\, lasting about an hour. Free\, social bike ride for ages 10+.  \nThis ride supports new and returning bicycle riders for ages 10 and up who want to learn more about bicycle riding in a no-pressure\, encouraging environment. We will learn more about  \n\nthe hows and whys of greenway riding\nbasic bicycle maintenance\nfeatures of Shelby Park and Bottoms\nthe work Friends of Shelby Park does to support the park.\n\nDepending on the number of riders\, we may split up into different pace groups. \n\nRide schedule & details\nMeet at the Nature Center Trailhead – look for the bicycle riders by the trailhead sign. No RSVP required (unless you need a bicycle – see below!)  \n\nMeet up starting at 5pm for a bike inspection and hang out. We’ll provide a safety overview and check everyone’s tires as needed. We will roll out at 5:30pm.  \nYOU MAY WANT TO BRING LIGHTS! \nHas it been a while since you last biked? Want to join but haven’t got your own bike? A limited number of bikes are available for us to bring – drop us a line at least 48 hours in advance so we can provide a bike that fits your needs. Bikes are FIRST COME\, FIRST SERVED. Call or text Bike Fun at 615-763-3788 or email bikefun@nashvillebikefun.org.   \n\nRides are weather pending. We will cancel rides in case of heavy rain\, lightning\, or extreme heat (heat index of 95 or higher). Check the event calendar for updates!\nRide requirements & requests\nIf you feel sick\, stay home! \nWe ride as a group to support new and returning bicycle riders – no rider left behind. If you are a more experienced bike rider\, you are welcome to come and help other riders build their riding confidence and skills!\n\nAdhere to all greenway trail etiquette (ride on right\, signal when passing\, stay under 15MPH\, slow down around walkers). \n\n\nThere is no charge for this ride\, but donations to Bike Fun or Friends of Shelby are gratefully accepted.
URL:https://nashvillebikefun.org/event/pedal-the-park-with-friends-of-shelby-park/2025-09-08/
LOCATION:Shelby Bottoms Nature Center\, 1900 Davidson Street\, Nashville\, TN\, 37206\, United States
CATEGORIES:Group Ride,Ride
ATTACH;FMTTYPE=image/jpeg:https://nashvillebikefun.org/wp-content/uploads/2025/05/2025-PedaltheParkHeader.jpg
END:VEVENT
BEGIN:VEVENT
DTSTART;TZID=America/Chicago:20250918T110000
DTEND;TZID=America/Chicago:20250918T123000
DTSTAMP:20260421T104935
CREATED:20250828T161149Z
LAST-MODIFIED:20250828T161149Z
UID:10002321-1758193200-1758198600@nashvillebikefun.org
SUMMARY:Bike Scootin' Boogie - September 2025
DESCRIPTION:Join Nashville Connector and Bike Fun for a no drop\, casual group ride on Thursday\, September 18th at 11:00 am. We’ll meet at Riverfront Station by the train depot\, leaving at 11:05 am. \nBox lunch provided and pre-registration required. A BCycle bike can be provided upon request. PLEASE REGISTER AT THIS LINK to ensure you receive a lunch and/or a BCycle! \nDeparting at 11:05 am\, we’ll start at Riverfront Station\, roll around Bridgestone Arena\, up Demonbreun into the Midtown\, Music Row and Vanderbilt areas\, then towards Church St./Athena and back downtown\, covering about 5 miles. Lunch stop will be about halfway at Flora Wilson Community Park\, in the Music Row area. \n(Specific route will be posted on the registration site.) \nAs Davidson County’s first transportation demand management program\, Nashville Connector aims to educate residents about all of our transportation options. \nDate: Thursday\, September 18th\nTime: 11 AM – 12:30ish PM\nLocation: Riverfront Station train depot (1st and Broadway)\nRegistration: Click here \nArriving via WeGo bus? The 14\, 18\, 52\, 55\, 56 lines pass nearby depending on your route. \nQuestions? Reach out to Nashville Connector at NashConnector@Nashville.gov or by phone at 615-339-4830.
URL:https://nashvillebikefun.org/event/bike-scootin-boogie-september-2025/
LOCATION:Riverfront Station\, 108 1st Ave South\, Nashville\, TN\, 37201\, United States
CATEGORIES:Group Ride,Ride
ATTACH;FMTTYPE=image/jpeg:https://nashvillebikefun.org/wp-content/uploads/2025/05/2025-Bike-Scootin-June.jpg
END:VEVENT
BEGIN:VEVENT
DTSTART;TZID=America/Chicago:20250922T170000
DTEND;TZID=America/Chicago:20250922T183000
DTSTAMP:20260421T104935
CREATED:20250512T144142Z
LAST-MODIFIED:20251220T195557Z
UID:10002293-1758560400-1758565800@nashvillebikefun.org
SUMMARY:Pedal the Park with Friends of Shelby
DESCRIPTION:Take a ride in the park with Friends of Shelby and Bike Fun! Twice a month\, we’ll cruise around Shelby Park starting from the Shelby Bottoms Nature Center Trailhead for a casual\, no-drop ride\, lasting about an hour. Free\, social bike ride for ages 10+.  \nThis ride supports new and returning bicycle riders for ages 10 and up who want to learn more about bicycle riding in a no-pressure\, encouraging environment. We will learn more about  \n\nthe hows and whys of greenway riding\nbasic bicycle maintenance\nfeatures of Shelby Park and Bottoms\nthe work Friends of Shelby Park does to support the park.\n\nDepending on the number of riders\, we may split up into different pace groups. \n\nRide schedule & details\nMeet at the Nature Center Trailhead – look for the bicycle riders by the trailhead sign. No RSVP required (unless you need a bicycle – see below!)  \n\nMeet up starting at 5pm for a bike inspection and hang out. We’ll provide a safety overview and check everyone’s tires as needed. We will roll out at 5:30pm.  \nYOU MAY WANT TO BRING LIGHTS! \nHas it been a while since you last biked? Want to join but haven’t got your own bike? A limited number of bikes are available for us to bring – drop us a line at least 48 hours in advance so we can provide a bike that fits your needs. Bikes are FIRST COME\, FIRST SERVED. Call or text Bike Fun at 615-763-3788 or email bikefun@nashvillebikefun.org.   \n\nRides are weather pending. We will cancel rides in case of heavy rain\, lightning\, or extreme heat (heat index of 95 or higher). Check the event calendar for updates!\nRide requirements & requests\nIf you feel sick\, stay home! \nWe ride as a group to support new and returning bicycle riders – no rider left behind. If you are a more experienced bike rider\, you are welcome to come and help other riders build their riding confidence and skills!\n\nAdhere to all greenway trail etiquette (ride on right\, signal when passing\, stay under 15MPH\, slow down around walkers). \n\n\nThere is no charge for this ride\, but donations to Bike Fun or Friends of Shelby are gratefully accepted.
URL:https://nashvillebikefun.org/event/pedal-the-park-with-friends-of-shelby-park/2025-09-22/
LOCATION:Shelby Bottoms Nature Center\, 1900 Davidson Street\, Nashville\, TN\, 37206\, United States
CATEGORIES:Group Ride,Ride
ATTACH;FMTTYPE=image/jpeg:https://nashvillebikefun.org/wp-content/uploads/2025/05/2025-PedaltheParkHeader.jpg
END:VEVENT
END:VCALENDAR