BEGIN:VCALENDAR
VERSION:2.0
PRODID:-//BIKE FUN - ECPv6.15.20//NONSGML v1.0//EN
CALSCALE:GREGORIAN
METHOD:PUBLISH
X-WR-CALNAME:BIKE FUN
X-ORIGINAL-URL:https://nashvillebikefun.org
X-WR-CALDESC:Events for BIKE FUN
REFRESH-INTERVAL;VALUE=DURATION:PT1H
X-Robots-Tag:noindex
X-PUBLISHED-TTL:PT1H
BEGIN:VTIMEZONE
TZID:America/Chicago
BEGIN:DAYLIGHT
TZOFFSETFROM:-0600
TZOFFSETTO:-0500
TZNAME:CDT
DTSTART:20240310T080000
END:DAYLIGHT
BEGIN:STANDARD
TZOFFSETFROM:-0500
TZOFFSETTO:-0600
TZNAME:CST
DTSTART:20241103T070000
END:STANDARD
BEGIN:DAYLIGHT
TZOFFSETFROM:-0600
TZOFFSETTO:-0500
TZNAME:CDT
DTSTART:20250309T080000
END:DAYLIGHT
BEGIN:STANDARD
TZOFFSETFROM:-0500
TZOFFSETTO:-0600
TZNAME:CST
DTSTART:20251102T070000
END:STANDARD
BEGIN:DAYLIGHT
TZOFFSETFROM:-0600
TZOFFSETTO:-0500
TZNAME:CDT
DTSTART:20260308T080000
END:DAYLIGHT
BEGIN:STANDARD
TZOFFSETFROM:-0500
TZOFFSETTO:-0600
TZNAME:CST
DTSTART:20261101T070000
END:STANDARD
END:VTIMEZONE
BEGIN:VEVENT
DTSTART;TZID=America/Chicago:20250714T170000
DTEND;TZID=America/Chicago:20250714T183000
DTSTAMP:20260423T035500
CREATED:20250512T144142Z
LAST-MODIFIED:20251220T195557Z
UID:10002288-1752512400-1752517800@nashvillebikefun.org
SUMMARY:Pedal the Park with Friends of Shelby
DESCRIPTION:Take a ride in the park with Friends of Shelby and Bike Fun! Twice a month\, we’ll cruise around Shelby Park starting from the Shelby Bottoms Nature Center Trailhead for a casual\, no-drop ride\, lasting about an hour. Free\, social bike ride for ages 10+.  \nThis ride supports new and returning bicycle riders for ages 10 and up who want to learn more about bicycle riding in a no-pressure\, encouraging environment. We will learn more about  \n\nthe hows and whys of greenway riding\nbasic bicycle maintenance\nfeatures of Shelby Park and Bottoms\nthe work Friends of Shelby Park does to support the park.\n\nDepending on the number of riders\, we may split up into different pace groups. \n\nRide schedule & details\nMeet at the Nature Center Trailhead – look for the bicycle riders by the trailhead sign. No RSVP required (unless you need a bicycle – see below!)  \n\nMeet up starting at 5pm for a bike inspection and hang out. We’ll provide a safety overview and check everyone’s tires as needed. We will roll out at 5:30pm.  \nYOU MAY WANT TO BRING LIGHTS! \nHas it been a while since you last biked? Want to join but haven’t got your own bike? A limited number of bikes are available for us to bring – drop us a line at least 48 hours in advance so we can provide a bike that fits your needs. Bikes are FIRST COME\, FIRST SERVED. Call or text Bike Fun at 615-763-3788 or email bikefun@nashvillebikefun.org.   \n\nRides are weather pending. We will cancel rides in case of heavy rain\, lightning\, or extreme heat (heat index of 95 or higher). Check the event calendar for updates!\nRide requirements & requests\nIf you feel sick\, stay home! \nWe ride as a group to support new and returning bicycle riders – no rider left behind. If you are a more experienced bike rider\, you are welcome to come and help other riders build their riding confidence and skills!\n\nAdhere to all greenway trail etiquette (ride on right\, signal when passing\, stay under 15MPH\, slow down around walkers). \n\n\nThere is no charge for this ride\, but donations to Bike Fun or Friends of Shelby are gratefully accepted.
URL:https://nashvillebikefun.org/event/pedal-the-park-with-friends-of-shelby-park/2025-07-14/
LOCATION:Shelby Bottoms Nature Center\, 1900 Davidson Street\, Nashville\, TN\, 37206\, United States
CATEGORIES:Group Ride,Ride
ATTACH;FMTTYPE=image/jpeg:https://nashvillebikefun.org/wp-content/uploads/2025/05/2025-PedaltheParkHeader.jpg
END:VEVENT
BEGIN:VEVENT
DTSTART;TZID=America/Chicago:20250720T160000
DTEND;TZID=America/Chicago:20250720T180000
DTSTAMP:20260423T035500
CREATED:20250703T193620Z
LAST-MODIFIED:20250703T193830Z
UID:10002303-1753027200-1753034400@nashvillebikefun.org
SUMMARY:POPSICLE the Park with Friends of Shelby - July 20\, 2025
DESCRIPTION:This is a SPECIAL EVENT to encourage all ages bike riding\, get to meet other bike riders in the area\, and enjoy deliciously cold popsicle treats. (Tell us if you’re coming & RSVP for a bike if needed at our survey here.) All wheels welcomed! \n\nRide schedule & details\n\nMeet up starting at 3:45pm for a bike inspection and hang out. We’ll provide a safety overview and check everyone’s tires. We will roll out at 4:15pm. \nTHIS EDITION OF THE PEDAL THE PARK RIDE WILL BEGIN AT CORNELIA FORT AIRPARK ON SHADOW LANE.  \nWe will roll as a large all-ages group\, then adults/older youth riders will split off for a guided ride on the back end of the greenway\, & younger riders will meet at the airpark entrance for games & more!  \nHas it been a while since you last biked? Want to join but haven’t got your own bike? A limited number of bikes are available for us to bring – drop us a line at least 48 hours in advance so we can bring a bike that fits your needs. We can also help with kids bikes for this ride. Bikes are FIRST COME\, FIRST SERVED. Fill out our participant survey here by Friday\, July 18th!   \n\nRides are weather pending. We will cancel rides in case of heavy rain\, lightning\, or extreme heat (heat index of 95 or higher). Updates will be posted here & will be sent to our email list (survey above provides options to sign up). \nRide requirements & requests\nIf you feel sick\, stay home! \nWe ride as a group to support new and returning bicycle riders – no rider left behind. If you are a more experienced bike rider\, you are welcome to come and help other riders build their riding confidence and skills!\n\nAdhere to all greenway trail etiquette (ride on right\, signal when passing\, stay under 15MPH\, slow down around walkers). \n\n\nThere is no charge for this ride\, but donations to Bike Fun or Friends of Shelby are gratefully accepted.
URL:https://nashvillebikefun.org/event/popsicle-the-park-with-friends-of-shelby-july-20-2025/
LOCATION:Cornelia Fort Airpark\, 1099 Shadow Lane\, Nashville\, TN\, 37206\, United States
CATEGORIES:Group Ride,Ride
ATTACH;FMTTYPE=image/jpeg:https://nashvillebikefun.org/wp-content/uploads/2025/07/1600-PTP-header.jpg
END:VEVENT
BEGIN:VEVENT
DTSTART;TZID=America/Chicago:20250723T070000
DTEND;TZID=America/Chicago:20250723T090000
DTSTAMP:20260423T035500
CREATED:20250702T140146Z
LAST-MODIFIED:20250722T161116Z
UID:10002311-1753254000-1753261200@nashvillebikefun.org
SUMMARY:Bike Scootin' Boogie - July 2025
DESCRIPTION:Join Nashville Connector and Bike Fun for a no drop\, casual group ride on Wednesday\, July 23rd at 7:00 am. We’ll meet at Riverfront Station\, leaving at 7:15 am. \nCoffee is on us\, and pre-registration required. A BCycle bike can be provided upon request. PLEASE REGISTER AT THIS LINK to ensure you receive a coffee and/or a BCycle! \nDeparting from Riverfront Park\, we’ll roll towards Germantown and check out some new bikeway and greenway infrastructure\, headed mid ride to Frothy Monkey on 5th for a coffee break. After the break\, roll towards work on your own or continue with us for a few more miles back to the start. \nAs Davidson County’s first transportation demand management program\, Nashville Connector aims to educate residents about all of our transportation options. \nDate: Wednesday\, July 23rd\nTime: 7 AM – 9 AM\nLocation: Riverfront Station (by the train depot)\nRegistration: Click here \n \nThe closest bus stop is Union Street & 2nd Ave N\, but there are several nearby depending on your route. \nQuestions? Reach out to Nashville Connector at NashConnector@Nashville.gov or by phone at 615-339-4830.
URL:https://nashvillebikefun.org/event/bike-scootin-boogie-july-2025/
LOCATION:Riverfront Station\, 108 1st Ave South\, Nashville\, TN\, 37201\, United States
CATEGORIES:Group Ride,Ride
ATTACH;FMTTYPE=image/jpeg:https://nashvillebikefun.org/wp-content/uploads/2025/07/2025-Bike-Scootin-July.jpg
END:VEVENT
BEGIN:VEVENT
DTSTART;TZID=America/Chicago:20250728T170000
DTEND;TZID=America/Chicago:20250728T183000
DTSTAMP:20260423T035500
CREATED:20250512T144142Z
LAST-MODIFIED:20251220T195557Z
UID:10002289-1753722000-1753727400@nashvillebikefun.org
SUMMARY:Pedal the Park with Friends of Shelby
DESCRIPTION:Take a ride in the park with Friends of Shelby and Bike Fun! Twice a month\, we’ll cruise around Shelby Park starting from the Shelby Bottoms Nature Center Trailhead for a casual\, no-drop ride\, lasting about an hour. Free\, social bike ride for ages 10+.  \nThis ride supports new and returning bicycle riders for ages 10 and up who want to learn more about bicycle riding in a no-pressure\, encouraging environment. We will learn more about  \n\nthe hows and whys of greenway riding\nbasic bicycle maintenance\nfeatures of Shelby Park and Bottoms\nthe work Friends of Shelby Park does to support the park.\n\nDepending on the number of riders\, we may split up into different pace groups. \n\nRide schedule & details\nMeet at the Nature Center Trailhead – look for the bicycle riders by the trailhead sign. No RSVP required (unless you need a bicycle – see below!)  \n\nMeet up starting at 5pm for a bike inspection and hang out. We’ll provide a safety overview and check everyone’s tires as needed. We will roll out at 5:30pm.  \nYOU MAY WANT TO BRING LIGHTS! \nHas it been a while since you last biked? Want to join but haven’t got your own bike? A limited number of bikes are available for us to bring – drop us a line at least 48 hours in advance so we can provide a bike that fits your needs. Bikes are FIRST COME\, FIRST SERVED. Call or text Bike Fun at 615-763-3788 or email bikefun@nashvillebikefun.org.   \n\nRides are weather pending. We will cancel rides in case of heavy rain\, lightning\, or extreme heat (heat index of 95 or higher). Check the event calendar for updates!\nRide requirements & requests\nIf you feel sick\, stay home! \nWe ride as a group to support new and returning bicycle riders – no rider left behind. If you are a more experienced bike rider\, you are welcome to come and help other riders build their riding confidence and skills!\n\nAdhere to all greenway trail etiquette (ride on right\, signal when passing\, stay under 15MPH\, slow down around walkers). \n\n\nThere is no charge for this ride\, but donations to Bike Fun or Friends of Shelby are gratefully accepted.
URL:https://nashvillebikefun.org/event/pedal-the-park-with-friends-of-shelby-park/2025-07-28/
LOCATION:Shelby Bottoms Nature Center\, 1900 Davidson Street\, Nashville\, TN\, 37206\, United States
CATEGORIES:Group Ride,Ride
ATTACH;FMTTYPE=image/jpeg:https://nashvillebikefun.org/wp-content/uploads/2025/05/2025-PedaltheParkHeader.jpg
END:VEVENT
BEGIN:VEVENT
DTSTART;TZID=America/Chicago:20250729T183000
DTEND;TZID=America/Chicago:20250729T210000
DTSTAMP:20260423T035500
CREATED:20250706T194733Z
LAST-MODIFIED:20250729T164712Z
UID:10002314-1753813800-1753822800@nashvillebikefun.org
SUMMARY:Field Trip: Music City BMX - July 2025
DESCRIPTION:UPDATED TIMES DUE TO WEATHER! ONE HOUR LATER! \nWe’re taking a field trip to the Music City BMX track for Tuesday night practice! Whether you want to try it out or just check it out from the sidelines\, join us for an excursion to Hamilton Creek. \nFirst time riders can rent gear for free; if you can contribute\, donations are welcomed to defray costs. \nFrom the MCBMX page: First time riders at MCBMX have free use of a rental bike\, rental full face helmet\, a one-day trial membership\, and free practice. Just cover your knees and elbows and get ready to have fun!! \nMeet at the entrance by 6:45PM; balance bike practice is 7-7:30PM and gate practice is 7:30-9PM. \nWe’re thankful to Music City BMX for participating in the Nashville Bicycle Festival in 2023 and 2025!
URL:https://nashvillebikefun.org/event/field-trip-music-city-bmx-july-2025/
LOCATION:Music City BMX\, 2901 Bell Road\, Nashville\, TN\, 37217\, United States
CATEGORIES:Civic Engagement,Ride
ATTACH;FMTTYPE=image/jpeg:https://nashvillebikefun.org/wp-content/uploads/2025/07/1600-MusicCityBMX-Header.jpg
END:VEVENT
END:VCALENDAR