BEGIN:VCALENDAR
VERSION:2.0
PRODID:-//BIKE FUN - ECPv6.15.20//NONSGML v1.0//EN
CALSCALE:GREGORIAN
METHOD:PUBLISH
X-WR-CALNAME:BIKE FUN
X-ORIGINAL-URL:https://nashvillebikefun.org
X-WR-CALDESC:Events for BIKE FUN
REFRESH-INTERVAL;VALUE=DURATION:PT1H
X-Robots-Tag:noindex
X-PUBLISHED-TTL:PT1H
BEGIN:VTIMEZONE
TZID:America/Chicago
BEGIN:DAYLIGHT
TZOFFSETFROM:-0600
TZOFFSETTO:-0500
TZNAME:CDT
DTSTART:20240310T080000
END:DAYLIGHT
BEGIN:STANDARD
TZOFFSETFROM:-0500
TZOFFSETTO:-0600
TZNAME:CST
DTSTART:20241103T070000
END:STANDARD
BEGIN:DAYLIGHT
TZOFFSETFROM:-0600
TZOFFSETTO:-0500
TZNAME:CDT
DTSTART:20250309T080000
END:DAYLIGHT
BEGIN:STANDARD
TZOFFSETFROM:-0500
TZOFFSETTO:-0600
TZNAME:CST
DTSTART:20251102T070000
END:STANDARD
BEGIN:DAYLIGHT
TZOFFSETFROM:-0600
TZOFFSETTO:-0500
TZNAME:CDT
DTSTART:20260308T080000
END:DAYLIGHT
BEGIN:STANDARD
TZOFFSETFROM:-0500
TZOFFSETTO:-0600
TZNAME:CST
DTSTART:20261101T070000
END:STANDARD
END:VTIMEZONE
BEGIN:VEVENT
DTSTART;TZID=America/Chicago:20251214T140000
DTEND;TZID=America/Chicago:20251214T160000
DTSTAMP:20260421T104123
CREATED:20251123T212402Z
LAST-MODIFIED:20251123T212546Z
UID:10002333-1765720800-1765728000@nashvillebikefun.org
SUMMARY:Holiday Fun-Drive with Rivian and Bike Fun - December 2025
DESCRIPTION:Rivian teams up with Bike Fun for a Holiday Fun-Drive this November and December!\nHelp Bike Fun keep new and returning riders safe by contributing safety equipment like lights\, helmets\, and bells to our Holiday Fun-Drive. Check out our wish list here! \nFrom now until Saturday\, December 13th\, drop off items at the Rivian Spaces location at 905 Gleaves Street in the Gulch (or at the dealership at 305 5th Ave N\, Franklin). \nAnd come join us for merriment on Sunday\, December 14th from 2-4PM. Meet the Bike Fun team\, get your bike riding questions answered\, and enjoy some light refreshments!
URL:https://nashvillebikefun.org/event/holiday-fun-drive-with-rivian-and-bike-fun-december-2025/
LOCATION:Rivian Spaces\, 905 Gleaves Street\, Nashville\, TN\, 37203\, United States
CATEGORIES:Fundraiser,Open House
ATTACH;FMTTYPE=image/png:https://nashvillebikefun.org/wp-content/uploads/2025/11/2025-12-RivianBikeFunEvent.png
END:VEVENT
BEGIN:VEVENT
DTSTART;TZID=America/Chicago:20250614T100000
DTEND;TZID=America/Chicago:20250614T140000
DTSTAMP:20260421T104123
CREATED:20250530T125813Z
LAST-MODIFIED:20250530T170850Z
UID:10002302-1749895200-1749909600@nashvillebikefun.org
SUMMARY:Bike Wash at Mitchell Deli - June 2025
DESCRIPTION:A happier ride in no time at all\nDoes your bike need a bath? Let Bike Fun help get you moving smoothly again at our BIKE WASH. \nMeet us at Mitchell Deli in Inglewood for chain\, frame\, & wheel cleaning. We’ll be on the side of the building with a tent\, hose\, and cleaning supplies! \nGrab a bite to eat while you wait. \nSuggested sliding scale donation. \nFunds raised will go towards our bike refurbishment program. \nDate: Saturday\, June 14th\nTime: 10AM – 2PM\nLocation: Mitchell Deli\, 1306 McGavock Pike\, 37216 \nQuestions? Contact us for more specifics.
URL:https://nashvillebikefun.org/event/bike-wash-at-mitchell-deli-june-2025/
LOCATION:Mitchell Deli\, 1306 McGavock Pike\, Nashville\, 37216\, United States
CATEGORIES:Fundraiser,Hands-on,Volunteer
ATTACH;FMTTYPE=image/jpeg:https://nashvillebikefun.org/wp-content/uploads/2025/05/1600-2025-06-BikeWashMitchell.jpg
END:VEVENT
END:VCALENDAR