BEGIN:VCALENDAR
VERSION:2.0
PRODID:-//BIKE FUN - ECPv6.15.20//NONSGML v1.0//EN
CALSCALE:GREGORIAN
METHOD:PUBLISH
X-WR-CALNAME:BIKE FUN
X-ORIGINAL-URL:https://nashvillebikefun.org
X-WR-CALDESC:Events for BIKE FUN
REFRESH-INTERVAL;VALUE=DURATION:PT1H
X-Robots-Tag:noindex
X-PUBLISHED-TTL:PT1H
BEGIN:VTIMEZONE
TZID:America/Chicago
BEGIN:DAYLIGHT
TZOFFSETFROM:-0600
TZOFFSETTO:-0500
TZNAME:CDT
DTSTART:20250309T080000
END:DAYLIGHT
BEGIN:STANDARD
TZOFFSETFROM:-0500
TZOFFSETTO:-0600
TZNAME:CST
DTSTART:20251102T070000
END:STANDARD
BEGIN:DAYLIGHT
TZOFFSETFROM:-0600
TZOFFSETTO:-0500
TZNAME:CDT
DTSTART:20260308T080000
END:DAYLIGHT
BEGIN:STANDARD
TZOFFSETFROM:-0500
TZOFFSETTO:-0600
TZNAME:CST
DTSTART:20261101T070000
END:STANDARD
BEGIN:DAYLIGHT
TZOFFSETFROM:-0600
TZOFFSETTO:-0500
TZNAME:CDT
DTSTART:20270314T080000
END:DAYLIGHT
BEGIN:STANDARD
TZOFFSETFROM:-0500
TZOFFSETTO:-0600
TZNAME:CST
DTSTART:20271107T070000
END:STANDARD
END:VTIMEZONE
BEGIN:VTIMEZONE
TZID:UTC
BEGIN:STANDARD
TZOFFSETFROM:+0000
TZOFFSETTO:+0000
TZNAME:UTC
DTSTART:20250101T000000
END:STANDARD
END:VTIMEZONE
BEGIN:VEVENT
DTSTART;TZID=America/Chicago:20260309T180000
DTEND;TZID=America/Chicago:20260309T200000
DTSTAMP:20260422T102816
CREATED:20260215T184424Z
LAST-MODIFIED:20260215T184530Z
UID:10002409-1773079200-1773086400@nashvillebikefun.org
SUMMARY:Fix a Flat Clinic - March 2026
DESCRIPTION:Learn loads about tires and wheels at this focused clinic with Bike Fun. \nWant to learn the basics of fix a flat and tire care? \nBike Fun is hosting a Fix a Flat clinic. Bring your wheels or your bike and we’ll break it all down for you! \nWe will be inside working on our bicycles. \nThis course is for anyone 13 and up who wants to learn more about fixing a flat tire – and preventing flats in the first place. \nWe will cover wheel anatomy\, tubes\, tires\, some tubeless\, & selecting PSI. \nAges 13+ though note this is not a youth-specific course. Bicycle wheels can be provided for those who would like to attend but don’t have their own bicycle yet. Please bring a water bottle/hydration and a snack if you want! \nDate: Monday\, March 9th\, 2026\nTime: 6-8 PM\nLocation: Bike Fun Bike Lab at Cosecha\, 2621 Nolensville Pike\, 37211
URL:https://nashvillebikefun.org/event/fix-a-flat-clinic-march-2026/
LOCATION:Cosecha Community\, 2621 Nolensville Pike\, Nashville\, 37211\, United States
CATEGORIES:Class,Hands-on
ATTACH;FMTTYPE=image/jpeg:https://nashvillebikefun.org/wp-content/uploads/2026/02/1600_FixaFlatClinic.jpg
END:VEVENT
BEGIN:VEVENT
DTSTART;TZID=America/Chicago:20260314T100000
DTEND;TZID=America/Chicago:20260314T120000
DTSTAMP:20260422T102816
CREATED:20260203T150039Z
LAST-MODIFIED:20260204T005932Z
UID:10002404-1773482400-1773489600@nashvillebikefun.org
SUMMARY:5 & 6 Year Old Learn to Ride - March 2026
DESCRIPTION:You’re Never Too Old to Learn to Ride!\nThis course is for brand new riders who have either only pedaled on training wheels or who have tried without success to ride without training wheels. \nYou must register to attend – see registration form below! If you need assistance with the fee\, contact us! \nDo you know a 5 or 6 year old who needs some help getting going on two wheels? Then we have something just for you! \nClass Details\nBike Fun is hosting a 5 & 6 Year Old Learn to Ride event. Get your kid started on their bicycling journey! \nThis course is for 5 and 6 year olds who have never pedaled a bicycle before. It covers the following topics: \n\nGetting onto the bike\nBasic balance\nStarting and stopping\nPedaling\nTurning\n\nCome learn how to ride in a safe and supportive environment. \nFor our learn to ride classes\, we emphasize exposure\, not expertise. Each human learns at their own pace\, and we work with each student within their own ability. \nSee our general agenda for group classes. Get your questions about group classes answered\, too. \nAges 5 & 6. Bicycles and helmets can be provided for those who would like to attend\, but don’t have their own bicycle yet. Please bring a water bottle/hydration and a snack! Bike Fun has limited snacks available and will have extra water. \n\n\n \nQuestions? Contact us for more specifics.
URL:https://nashvillebikefun.org/event/5-6-year-old-learn-to-ride-march-2026/
LOCATION:Cosecha Community\, 2621 Nolensville Pike\, Nashville\, 37211\, United States
CATEGORIES:Class,Hands-on
ATTACH;FMTTYPE=image/jpeg:https://nashvillebikefun.org/wp-content/uploads/2025/02/LearntoRide5-6YearOlds.jpg
END:VEVENT
BEGIN:VEVENT
DTSTART;TZID=America/Chicago:20260315T140000
DTEND;TZID=America/Chicago:20260315T160000
DTSTAMP:20260422T102816
CREATED:20260114T013009Z
LAST-MODIFIED:20260114T013831Z
UID:10002399-1773583200-1773590400@nashvillebikefun.org
SUMMARY:7 & 8 Year Old Learn to Ride - March 2026
DESCRIPTION:You’re Never Too Old to Learn to Ride!\nThis course is for brand new riders who have either only pedaled on training wheels or who have tried without success to ride without training wheels. \nYou must register to attend – see the registration form below! Class size limited to 8 students. Registration fee is sliding scale $20-50. If you need assistance with the fee\, contact us! \nClass Details\nBike Fun is hosting a 7 & 8 Year Old Learn to Ride event. Get your kid started on their bicycling journey! \nThis course is for 7 and 8 year olds who have never pedaled a bicycle before. It covers the following topics: \n\nGetting onto the bike\nBasic balance\nStarting and stopping\nPedaling\nTurning\n\nCome learn how to ride in a safe and supportive environment. \nFor our learn to ride classes\, we emphasize exposure\, not expertise. Each human learns at their own pace\, and we work with each student within their own ability. \nSee our general agenda for group classes. Get your questions about group classes answered\, too. \nAges 7 & 8. Bicycles and helmets can be provided for those who would like to attend\, but don’t have their own correctly sized bicycle yet. Please bring a water bottle/hydration and a snack! Bike Fun has limited snacks available and will have extra water.
URL:https://nashvillebikefun.org/event/7-8-year-old-learn-to-ride-march-2026/
LOCATION:Bellevue UMC\, 7501 Old Harding Pike\, Nashville\, 37221
CATEGORIES:Class,Hands-on
ATTACH;FMTTYPE=image/jpeg:https://nashvillebikefun.org/wp-content/uploads/2024/12/LearntoRide7-8YearOlds.jpg
END:VEVENT
BEGIN:VEVENT
DTSTART;TZID=America/Chicago:20260321T100000
DTEND;TZID=America/Chicago:20260321T120000
DTSTAMP:20260422T102816
CREATED:20260203T145619Z
LAST-MODIFIED:20260204T010648Z
UID:10002403-1774087200-1774094400@nashvillebikefun.org
SUMMARY:9 & 10 Year Old Learn to Ride - March 2026
DESCRIPTION:You’re Never Too Old to Learn to Ride!\nThis course is for brand new riders who have either only pedaled on training wheels or who have tried without success to ride without training wheels. \nSliding scale registration fee; income based scholarships available. \nDo you know a 9 or 10 year old who needs some help getting going on two wheels? Then we have something just for you! \nClass Details\nBike Fun is hosting a 9 & 10 Year Old Learn to Ride event. Get your kid started on their bicycling journey! \nThis course is for 9 and 10 year olds who have never pedaled a bicycle without training wheels. It covers the following topics: \n\nGetting onto the bike\nBasic balance\nStarting and stopping\nPedaling\nTurning\n\nCome learn how to ride in a safe and supportive environment. \nFor our learn to ride classes\, we emphasize exposure\, not expertise. Each human learns at their own pace\, and we work with each student within their own ability. \nSee our general agenda for group classes. Get your questions about group classes answered\, too. \nAges 9 & 10. Bicycles and helmets can be provided for those who would like to attend\, but don’t have their own bicycle yet. Please bring a water bottle/hydration and a snack! Bike Fun has limited snacks available and will have extra water.
URL:https://nashvillebikefun.org/event/9-10-year-old-learn-to-ride-march-2026/
LOCATION:Cosecha Community\, 2621 Nolensville Pike\, Nashville\, 37211\, United States
CATEGORIES:Class,Hands-on
ATTACH;FMTTYPE=image/jpeg:https://nashvillebikefun.org/wp-content/uploads/2025/01/LearntoRide9-10YearOlds.jpg
END:VEVENT
BEGIN:VEVENT
DTSTART;TZID=UTC:20260321T100000
DTEND;TZID=UTC:20260321T140000
DTSTAMP:20260422T102816
CREATED:20260115T153437Z
LAST-MODIFIED:20260116T140124Z
UID:10002400-1774087200-1774101600@nashvillebikefun.org
SUMMARY:Bike Fun Bike Lab at Shelby Recreation Open House - March 2026
DESCRIPTION:Come join Bike Fun\, Friends of Shelby Park\, and other community groups at the fourth annual Shelby Recreation Open House on Saturday\, March 21. This event will highlight all the fun activities available in Shelby and the wider Parks system. \nBike Fun will be operating the mobile Bike Lab\, helping you get your bike roll-ready for spring! Bring your bike & learn about tires\, brakes\, and chains. We will have tools for you to work on your bike – and expert help to guide you along the way. \nDon’t miss out on your chance to win fun prizes at the ALL AGES BALANCE BIKE RACE! Sign up at the Bike Fun booth and meet us at 11:30am! Bike Fun will have bikes on hand\, or bring your own! \nFind more information and booth locations at the Friends of Shelby Park website. \nCommon maintenance issues include: \n\nCleaning your drivetrain\nAdjusting tension in cables (brakes and shifting)\nFixing a flat tire\nPatching an inner tube\nGeneral cleaning\nChecking bolts for tightness\nChecking cassette/freewheel and crankset sprockets for wear
URL:https://nashvillebikefun.org/event/bike-fun-bike-lab-at-shelby-recreation-open-house-march-2026/
LOCATION:Shelby Community Center\, 401 South 20th Street\, Nashville\, TN\, 37206\, United States
CATEGORIES:Hands-on,Open House
ATTACH;FMTTYPE=image/jpeg:https://nashvillebikefun.org/wp-content/uploads/2026/01/ShelbyRecOpenHouse2026png.jpg
END:VEVENT
END:VCALENDAR