BEGIN:VCALENDAR
VERSION:2.0
PRODID:-//BIKE FUN - ECPv6.15.20//NONSGML v1.0//EN
CALSCALE:GREGORIAN
METHOD:PUBLISH
X-ORIGINAL-URL:https://nashvillebikefun.org
X-WR-CALDESC:Events for BIKE FUN
REFRESH-INTERVAL;VALUE=DURATION:PT1H
X-Robots-Tag:noindex
X-PUBLISHED-TTL:PT1H
BEGIN:VTIMEZONE
TZID:America/Chicago
BEGIN:DAYLIGHT
TZOFFSETFROM:-0600
TZOFFSETTO:-0500
TZNAME:CDT
DTSTART:20250309T080000
END:DAYLIGHT
BEGIN:STANDARD
TZOFFSETFROM:-0500
TZOFFSETTO:-0600
TZNAME:CST
DTSTART:20251102T070000
END:STANDARD
BEGIN:DAYLIGHT
TZOFFSETFROM:-0600
TZOFFSETTO:-0500
TZNAME:CDT
DTSTART:20260308T080000
END:DAYLIGHT
BEGIN:STANDARD
TZOFFSETFROM:-0500
TZOFFSETTO:-0600
TZNAME:CST
DTSTART:20261101T070000
END:STANDARD
BEGIN:DAYLIGHT
TZOFFSETFROM:-0600
TZOFFSETTO:-0500
TZNAME:CDT
DTSTART:20270314T080000
END:DAYLIGHT
BEGIN:STANDARD
TZOFFSETFROM:-0500
TZOFFSETTO:-0600
TZNAME:CST
DTSTART:20271107T070000
END:STANDARD
END:VTIMEZONE
BEGIN:VEVENT
DTSTART;TZID=America/Chicago:20260208T130000
DTEND;TZID=America/Chicago:20260208T160000
DTSTAMP:20260422T140818
CREATED:20251128T162237Z
LAST-MODIFIED:20251128T162237Z
UID:10002336-1770555600-1770566400@nashvillebikefun.org
SUMMARY:Basic Bicycle Maintenance - February 2026
DESCRIPTION:Learn at home caregiving tasks to keep your bicycle in tip top shape. Receive praise from the bike shop for keeping your bike in good order! Find out why it’s important to shift gears properly\, what inflation to use for your tires\, how (and why) to clean a chain\, and more. \nWant to keep your bike on the road and out of the shop? Come learn how just a few maintenance tasks will keep your bike going longer. \nBike Fun is hosting a Basic Bicycle Maintenance class. We will cover the basics of home bicycle maintenance\, as well as provide time to answer questions you may have about bicycle maintenance. If you have a bicycle and bring it\, we’ll also fill out your very own Bicycle Information Sheet. \nWe will be inside working on our bicycles. \nThis course is for anyone 13 and up who wants to learn more about taking good care of a bicycle. It will cover the following topics: \n\nHow to fix a flat\nHow to properly inflate your tires\nHow to clean a chain and diagnose chain wear; and\nWhat each part of your bike is.\n\nAges 13 and up though please note this is not a youth-specific course. Bicycles can be provided for those who would like to attend but don’t have their own bicycle yet. Please bring a water bottle/hydration and a snack if you want! \nDate: Sunday\, February 8th\nTime: 1-4 PM\nLocation: Bike Fun Bike Lab at Cosecha Community\, Nashville 37211
URL:https://nashvillebikefun.org/event/basic-bicycle-maintenance-february-2026/
LOCATION:Cosecha Community\, 2621 Nolensville Pike\, Nashville\, 37211\, United States
CATEGORIES:Class,Hands-on
ATTACH;FMTTYPE=image/jpeg:https://nashvillebikefun.org/wp-content/uploads/2025/07/BasicBikeMaintenance13up2025.jpg
END:VEVENT
BEGIN:VEVENT
DTSTART;TZID=America/Chicago:20260216T140000
DTEND;TZID=America/Chicago:20260216T170000
DTSTAMP:20260422T140818
CREATED:20260204T201205Z
LAST-MODIFIED:20260204T201205Z
UID:10002405-1771250400-1771261200@nashvillebikefun.org
SUMMARY:Balance Bike Clinic at Trek Franklin - February 2026
DESCRIPTION:Do you have a young one in your life who could benefit from extra confidence on a bike?\nOn Monday\, February 16th\, from 2-5PM Trek Bicycle Franklin will be hosting a FREE clinic on using the balance bike method to teach kids (of all ages) how to ride bikes. We’ll also have helmet fitting demonstrations. \nBike Fun will be leading the clinic\, supported by staff at Trek. \nWhat you’ll learn\nThe balance bike method for teaching kids how to ride bikes is backed by research and experience! The earlier you start\, the better – but this method is effective at ANY age. Bike Fun will go over tips and recommendations to increase the FUN of learning. \nWearing a helmet is important to protect growing brains; we’ll show you how to select a helmet that fits and feels good for your rider. \nSwing by Trek Franklin between 2-5PM on Monday\, February 16th (President’s Day) and get your kid started on a lifetime of smiles! No registration required.
URL:https://nashvillebikefun.org/event/balance-bike-clinic-trek-franklin-february-2026/
LOCATION:Trek Bicycle Franklin\, 1709 Galleria Blvd #1001\, Franklin\, 37067\, United States
CATEGORIES:Class,Hands-on,Open House
ATTACH;FMTTYPE=image/jpeg:https://nashvillebikefun.org/wp-content/uploads/2026/02/1600-2026-02-BalanceBikeClinicTrek.jpg
END:VEVENT
BEGIN:VEVENT
DTSTART;TZID=America/Chicago:20260221T100000
DTEND;TZID=America/Chicago:20260221T140000
DTSTAMP:20260422T140818
CREATED:20260204T154750Z
LAST-MODIFIED:20260204T205313Z
UID:10002398-1771668000-1771682400@nashvillebikefun.org
SUMMARY:Bike Lab Volunteer Session - February 2026
DESCRIPTION:Help us get the Bike Lab organized!\n\nWe’re reorganizing the Bike Lab to create a little more space.\nWe are doing some Major Moving of bikes\, parts\, and tools – moving out of the room\, installing some new storage racks\, and then moving old storage racks over to East Nashville.\nWe can also use help assembling student packets for our learn to ride classes.\nDrop by anytime during the hours of 10am-1pm. At 1pm\, we will break for lunch and at 1:30pm we’ll have a crew head over to East Nashville to reassemble storage racks.\nMeet us at Woodbine UMC\, between Nolensville Pike and Grandview Ave.\nLet us know you’re coming if you can – it will guarantee you a lunch! sign up to volunteer here.\nFeel free to just drop by\, too.\n\nWear clothes you don’t mind getting dirty! \nWe’ll be working RAIN OR SHINE!
URL:https://nashvillebikefun.org/event/bike-lab-volunteer-session-february-2026/
LOCATION:Cosecha Community\, 2621 Nolensville Pike\, Nashville\, 37211\, United States
CATEGORIES:Hands-on,Volunteer
ATTACH;FMTTYPE=image/jpeg:https://nashvillebikefun.org/wp-content/uploads/2024/08/1600-Old-Bike.jpg
END:VEVENT
END:VCALENDAR