BEGIN:VCALENDAR
VERSION:2.0
PRODID:-//BIKE FUN - ECPv6.15.20//NONSGML v1.0//EN
CALSCALE:GREGORIAN
METHOD:PUBLISH
X-ORIGINAL-URL:https://nashvillebikefun.org
X-WR-CALDESC:Events for BIKE FUN
REFRESH-INTERVAL;VALUE=DURATION:PT1H
X-Robots-Tag:noindex
X-PUBLISHED-TTL:PT1H
BEGIN:VTIMEZONE
TZID:America/Chicago
BEGIN:DAYLIGHT
TZOFFSETFROM:-0600
TZOFFSETTO:-0500
TZNAME:CDT
DTSTART:20240310T080000
END:DAYLIGHT
BEGIN:STANDARD
TZOFFSETFROM:-0500
TZOFFSETTO:-0600
TZNAME:CST
DTSTART:20241103T070000
END:STANDARD
BEGIN:DAYLIGHT
TZOFFSETFROM:-0600
TZOFFSETTO:-0500
TZNAME:CDT
DTSTART:20250309T080000
END:DAYLIGHT
BEGIN:STANDARD
TZOFFSETFROM:-0500
TZOFFSETTO:-0600
TZNAME:CST
DTSTART:20251102T070000
END:STANDARD
BEGIN:DAYLIGHT
TZOFFSETFROM:-0600
TZOFFSETTO:-0500
TZNAME:CDT
DTSTART:20260308T080000
END:DAYLIGHT
BEGIN:STANDARD
TZOFFSETFROM:-0500
TZOFFSETTO:-0600
TZNAME:CST
DTSTART:20261101T070000
END:STANDARD
END:VTIMEZONE
BEGIN:VEVENT
DTSTART;TZID=America/Chicago:20250902T163000
DTEND;TZID=America/Chicago:20250902T183000
DTSTAMP:20260422T190015
CREATED:20250212T204647Z
LAST-MODIFIED:20250622T135108Z
UID:10002244-1756830600-1756837800@nashvillebikefun.org
SUMMARY:Bikes and Bites at the Community Dinner
DESCRIPTION:Bring your bike – we’ll help you figure it out.\nCome join us on the first Tuesday of the month at Trinity Community Commons. We’ll be at the Community Dinner with information on bike riding\, advocating for people who ride bikes in Nashville\, taking care of your bike\, and more. \nStay for the community dinner and meet neighbors who are passionate about making Nashville a more connected and vibrant place to live. \nIt’s free\nYou don’t have to pay anything to have your bike assessed. If you’d like to make a donation to either Bike Fun or Trinity Community Commons\, you are welcome to do so! \nFirst come\, first served\nOur basic fixes include fix-a-flat\, bolt safety checks\, and chain cleaning. We will have replacement tubes & tires on a first-come-first-served basis. Come see us and learn how to keep your bike in good riding shape! \n\nBike Fun is a non-profit whose mission is to create joyful riders in Middle Tennessee.\nTrinity Community Commons leverages sacred space to affirm and activate the worth and potential of all members of our community.
URL:https://nashvillebikefun.org/event/bikes-and-bites-at-the-community-dinner/2025-09-02/
LOCATION:Trinity Community Commons\, 204 East Trinity Lane\, Nashville\, TN\, 37027\, United States
CATEGORIES:Hands-on,Open House
ATTACH;FMTTYPE=image/jpeg:https://nashvillebikefun.org/wp-content/uploads/2025/02/2025-Community-Dinner-Bike-Repairs.jpg
END:VEVENT
BEGIN:VEVENT
DTSTART;TZID=America/Chicago:20250906T100000
DTEND;TZID=America/Chicago:20250906T140000
DTSTAMP:20260422T190015
CREATED:20250811T200647Z
LAST-MODIFIED:20250811T200647Z
UID:10002319-1757152800-1757167200@nashvillebikefun.org
SUMMARY:Bike Lab Volunteer Session - September 2025
DESCRIPTION:Help us get some bikes ready to roll!\n\nWe’re in need of some cleaning for donated bikes that have been in storage\, and for bikes that have been through summer camps and summer classes.\nIf you’ve got basic mechanical skills\, we’ll also be making adjustments on either simple single speed kids bikes or (less likely) geared\, hand brake bikes.\nFor bikes that we can’t fully fix\, we’ll strip them for usable parts.\nDrop by anytime during the hours of 10am-1pm. We’ll wrap up by 2pm.\nWe’ll be in the courtyard next to the building. If it’s raining\, we will be inside the Bike Fun Bike Lab.\nMeet us at Woodbine UMC\, between Nolensville Pike and Grandview Ave.\nLet us know you’re coming if you can! sign up to volunteer here.\n\nBike Fun will supply rags\, soap\, water\, degreaser\, etc. Wear clothes you don’t mind getting dirty. There will be heavy snacks! \nWe’ll be working RAIN OR SHINE with an indoor plan if needed!
URL:https://nashvillebikefun.org/event/bike-lab-volunteer-session-september-2025/
LOCATION:Cosecha Community\, 2621 Nolensville Pike\, Nashville\, 37211\, United States
CATEGORIES:Hands-on,Volunteer
ATTACH;FMTTYPE=image/jpeg:https://nashvillebikefun.org/wp-content/uploads/2024/08/1600-Old-Bike.jpg
END:VEVENT
BEGIN:VEVENT
DTSTART;TZID=America/Chicago:20250913T090000
DTEND;TZID=America/Chicago:20250913T110000
DTSTAMP:20260422T190015
CREATED:20250730T233051Z
LAST-MODIFIED:20250730T233419Z
UID:10002316-1757754000-1757761200@nashvillebikefun.org
SUMMARY:5 & 6 Year Old Learn to Ride - September 2025
DESCRIPTION:You’re Never Too Old to Learn to Ride!\nThis course is for brand new riders who have either only pedaled on training wheels or who have tried without success to ride without training wheels. \nYou must register to attend – fill out this registration form! Class size limited to 5 students. Registration fee is $20-35. If you need assistance with the fee\, contact us! \nDo you know a 5 or 6 year old who needs some help getting going on two wheels? Then we have something just for you! \nClass Details\nBike Fun is hosting a 5 & 6 Year Old Learn to Ride event. Get your kid started on their bicycling journey! \nThis course is for 5 and 6 year olds who have never pedaled a bicycle before. It covers the following topics: \n\nGetting onto the bike\nBasic balance\nStarting and stopping\nPedaling\nTurning\n\nCome learn how to ride in a safe and supportive environment. \nFor our learn to ride classes\, we emphasize exposure\, not expertise. Each human learns at their own pace\, and we work with each student within their own ability. \nSee our general agenda for group classes. Get your questions about group classes answered\, too. \nAges 5 & 6. Bicycles and helmets can be provided for those who would like to attend\, but don’t have their own bicycle yet. Please bring a water bottle/hydration and a snack! Bike Fun has limited snacks available and will have extra water. \n\n\n \nDate: Saturday\, September 13th\nTime: 9 AM – 11 AM\nLocation: Cosecha Community at Woodbine UMC\, Nashville 37211 \nQuestions? Contact us for more specifics.
URL:https://nashvillebikefun.org/event/5-6-year-old-learn-to-ride-september-2025/
LOCATION:Cosecha Community\, 2621 Nolensville Pike\, Nashville\, 37211\, United States
CATEGORIES:Class,Hands-on
ATTACH;FMTTYPE=image/jpeg:https://nashvillebikefun.org/wp-content/uploads/2025/02/LearntoRide5-6YearOlds.jpg
END:VEVENT
BEGIN:VEVENT
DTSTART;TZID=America/Chicago:20250916T160000
DTEND;TZID=America/Chicago:20250916T180000
DTSTAMP:20260422T190015
CREATED:20250909T171000Z
LAST-MODIFIED:20250909T171549Z
UID:10002326-1758038400-1758045600@nashvillebikefun.org
SUMMARY:Chains\, Trains\, No Automobiles - September 2025
DESCRIPTION:Tired of the driving grind?\nCombine your travel trips with chains\, train(s)\, and leave the automobile behind. Join Nashville Connector\, WeGo Public Transit\, and Bike Fun to learn about getting your two wheels up to speed with bike loading demos on a WeGo bus and the WeGo Star. \nWe will teach you hands on HOW TO board a bus (and train!) with your bike so you can use transit to expand the range of your bike commute. \nPlease register here! \nMeet NashConnector\, WeGo Public Transit and Bike Fun representatives at Riverfront Station on Tuesday\, September 16th\, 2025 at 4:00 PM prior to the WeGo Star departure. \nDate: Tuesday\, September 16th\nTime: 4 PM-6ish PM\nLocation: Riverfront Station\, 108 1st Ave\, Nashville 37201\nRegistration: Click here \nThe closest bus stop is at Broadway & 2nd Ave\, but there are several nearby depending on your route. \nQuestions? Contact us for more specifics.
URL:https://nashvillebikefun.org/event/chains-trains-no-automobiles-september-2025/
LOCATION:Riverfront Station\, 108 1st Ave South\, Nashville\, TN\, 37201\, United States
CATEGORIES:Hands-on,Presentation
ATTACH;FMTTYPE=image/jpeg:https://nashvillebikefun.org/wp-content/uploads/2025/04/2025-04-ChainsTrains-FB.jpg
END:VEVENT
BEGIN:VEVENT
DTSTART;TZID=America/Chicago:20250920T090000
DTEND;TZID=America/Chicago:20250920T110000
DTSTAMP:20260422T190015
CREATED:20250731T013233Z
LAST-MODIFIED:20250731T013233Z
UID:10002317-1758358800-1758366000@nashvillebikefun.org
SUMMARY:7 & 8 Year Old Learn to Ride - September 2025
DESCRIPTION:You’re Never Too Old to Learn to Ride!\nThis course is for brand new riders who have either only pedaled on training wheels or who have tried without success to ride without training wheels. \nYou must register to attend – fill out the registration form below! If you need assistance with the fee\, contact us! \nDo you know a 7 or 8 year old who needs some help getting going on two wheels? Then we have something just for you! \nClass Details\nBike Fun is hosting a 7 & 8 Year Old Learn to Ride event. Get your kid started on their bicycling journey! \nThis course is for 7 and 8 year olds who have never pedaled a bicycle before. It covers the following topics: \n\nGetting onto the bike\nBasic balance\nStarting and stopping\nPedaling\nTurning\n\nCome learn how to ride in a safe and supportive environment. \nFor our learn to ride classes\, we emphasize exposure\, not expertise. Each human learns at their own pace\, and we work with each student within their own ability. \nSee our general agenda for group classes. Get your questions about group classes answered\, too. \nAges 7 & 8. Bicycles and helmets can be provided for those who would like to attend\, but don’t have their own bicycle yet. Please bring a water bottle/hydration and a snack! Bike Fun has limited snacks available and will have extra water. \n\n\n\nQuestions? Contact us for more specifics.
URL:https://nashvillebikefun.org/event/7-8-year-old-learn-to-ride-september-2025/
LOCATION:Cosecha Community\, 2621 Nolensville Pike\, Nashville\, 37211\, United States
CATEGORIES:Class,Hands-on
ATTACH;FMTTYPE=image/jpeg:https://nashvillebikefun.org/wp-content/uploads/2024/12/LearntoRide7-8YearOlds.jpg
END:VEVENT
BEGIN:VEVENT
DTSTART;TZID=America/Chicago:20250921T130000
DTEND;TZID=America/Chicago:20250921T160000
DTSTAMP:20260422T190015
CREATED:20250805T154733Z
LAST-MODIFIED:20250805T154733Z
UID:10002318-1758459600-1758470400@nashvillebikefun.org
SUMMARY:Basic Bicycle Maintenance - September 2025
DESCRIPTION:Learn at home caregiving tasks to keep your bicycle in tip top shape. Receive praise from the bike shop for keeping your bike in good order! Find out why it’s important to shift gears properly\, what inflation to use for your tires\, how (and why) to clean a chain\, and more. \nWant to keep your bike on the road and out of the shop? Come learn how just a few maintenance tasks will keep your bike going longer. \nBike Fun is hosting a Basic Bicycle Maintenance class. We will cover the basics of home bicycle maintenance\, as well as provide time to answer questions you may have about bicycle maintenance. If you have a bicycle and bring it\, we’ll also fill out your very own Bicycle Information Sheet. \nWe will be inside working on our bicycles. \nThis course is for anyone 13 and up who wants to learn more about taking good care of a bicycle. It will cover the following topics: \n\nHow to fix a flat\nHow to properly inflate your tires\nHow to clean a chain and diagnose chain wear; and\nWhat each part of your bike is.\n\nAges 13 and up – this is not a youth-specific course\, FYI. Bicycles can be provided for those who would like to attend but don’t have their own bicycle yet. Please bring a water bottle/hydration and a snack if you want! \nDate: Sunday\, September 21st\nTime: 1-4 PM\nLocation: Bike Fun Bike Lab at Cosecha Community\, Nashville 37211
URL:https://nashvillebikefun.org/event/basic-bicycle-maintenance-september-2025/
LOCATION:Cosecha Community\, 2621 Nolensville Pike\, Nashville\, 37211\, United States
CATEGORIES:Class,Hands-on
ATTACH;FMTTYPE=image/jpeg:https://nashvillebikefun.org/wp-content/uploads/2025/07/BasicBikeMaintenance13up2025.jpg
END:VEVENT
BEGIN:VEVENT
DTSTART;TZID=America/Chicago:20250921T160000
DTEND;TZID=America/Chicago:20250921T180000
DTSTAMP:20260422T190015
CREATED:20250828T144645Z
LAST-MODIFIED:20250828T144646Z
UID:10002320-1758470400-1758477600@nashvillebikefun.org
SUMMARY:Adult Learn to Ride  - September 2025
DESCRIPTION:Get Rolling on Your Bicycle Journey\nBike Fun is lead teaching a course for adults on learning (or relearning) how to ride a bicycle. This course is meant for brand new riders and for potential riders who are anxious about getting back on a bicycle after a long time away. \nDo you know someone who hasn’t learned to ride a bike but wants to? Do you feel like you could use a refresher after a long\, long time away? Then we have something just for you! \nClass Details\nOn Sunday\, September 21st\, 2025\, Bike Fun is teaching an Adult Learn to Ride small group class. Get started on your bike life! \nThis course is for adults (18+) who have never pedaled a bicycle before or who have been away for decades! It will cover the following topics: \n\nGetting onto the bike\nBasic balance\nStarting and stopping\nPedaling\nTurning\n\nCome learn how to ride in a safe and supportive environment. \nSee our general agenda for group classes. Get your questions about group classes answered\, too. \nThis is an 18+ learn to ride class. Bicycles and helmets are provided. If you have your own bicycle\, you may bring it for us to assess for size\, functionality\, etc. \nBring water\, snack\, and wear comfortable clothing. \nThis event is OUTSIDE & WEATHER PENDING. Registrants will receive updates via text & email as needed. \nDate: Sunday\, September 21st\, 2025\nTime: 4p-6p\nLocation: Bellevue UMC\, 37221 \nQuestions? Contact us for more specifics.
URL:https://nashvillebikefun.org/event/adult-learn-to-ride-september-2025/
LOCATION:Bellevue UMC\, 7501 Old Harding Pike\, Nashville\, 37221
CATEGORIES:Class,Hands-on
ATTACH;FMTTYPE=image/jpeg:https://nashvillebikefun.org/wp-content/uploads/2025/08/1600-AdultLearntoRide2024.jpg
END:VEVENT
END:VCALENDAR