BEGIN:VCALENDAR
VERSION:2.0
PRODID:-//BIKE FUN - ECPv6.15.20//NONSGML v1.0//EN
CALSCALE:GREGORIAN
METHOD:PUBLISH
X-WR-CALNAME:BIKE FUN
X-ORIGINAL-URL:https://nashvillebikefun.org
X-WR-CALDESC:Events for BIKE FUN
REFRESH-INTERVAL;VALUE=DURATION:PT1H
X-Robots-Tag:noindex
X-PUBLISHED-TTL:PT1H
BEGIN:VTIMEZONE
TZID:America/Chicago
BEGIN:DAYLIGHT
TZOFFSETFROM:-0600
TZOFFSETTO:-0500
TZNAME:CDT
DTSTART:20240310T080000
END:DAYLIGHT
BEGIN:STANDARD
TZOFFSETFROM:-0500
TZOFFSETTO:-0600
TZNAME:CST
DTSTART:20241103T070000
END:STANDARD
BEGIN:DAYLIGHT
TZOFFSETFROM:-0600
TZOFFSETTO:-0500
TZNAME:CDT
DTSTART:20250309T080000
END:DAYLIGHT
BEGIN:STANDARD
TZOFFSETFROM:-0500
TZOFFSETTO:-0600
TZNAME:CST
DTSTART:20251102T070000
END:STANDARD
BEGIN:DAYLIGHT
TZOFFSETFROM:-0600
TZOFFSETTO:-0500
TZNAME:CDT
DTSTART:20260308T080000
END:DAYLIGHT
BEGIN:STANDARD
TZOFFSETFROM:-0500
TZOFFSETTO:-0600
TZNAME:CST
DTSTART:20261101T070000
END:STANDARD
END:VTIMEZONE
BEGIN:VEVENT
DTSTART;TZID=America/Chicago:20250803T130000
DTEND;TZID=America/Chicago:20250803T160000
DTSTAMP:20260422T204333
CREATED:20250703T002650Z
LAST-MODIFIED:20250709T192511Z
UID:10002312-1754226000-1754236800@nashvillebikefun.org
SUMMARY:Basic Bicycle Maintenance - August 2025
DESCRIPTION:Learn at home caregiving tasks to keep your bicycle in tip top shape. Receive praise from the bike shop for keeping your bike in good order! Find out why it’s important to shift gears properly\, what inflation to use for your tires\, how (and why) to clean a chain\, and more. \nWant to keep your bike on the road and out of the shop? Come learn how just a few maintenance tasks will keep your bike going longer. \nBike Fun is hosting a Basic Bicycle Maintenance class. We will cover the basics of home bicycle maintenance\, as well as provide time to answer questions you may have about bicycle maintenance. If you have a bicycle and bring it\, we’ll also fill out your very own Bicycle Information Sheet. \nRegistration for the class is here. Suggested ticket price is sliding scale between $50-100.  \nWe will be inside working on our bicycles. \nThis course is for anyone 13 and up who wants to learn more about taking good care of a bicycle. It will cover the following topics: \n\nHow to fix a flat\nHow to properly inflate your tires\nHow to clean a chain and diagnose chain wear; and\nWhat each part of your bike is.\n\nAges 13 and up – this is not a youth-specific course\, FYI. Bicycles can be provided for those who would like to attend but don’t have their own bicycle yet. Please bring a water bottle/hydration and a snack if you want! \nDate: Sunday\, August 3rd\nTime: 1-4 PM\nLocation: Bike Fun Bike Lab at Cosecha Community\, Nashville 37211
URL:https://nashvillebikefun.org/event/basic-bicycle-maintenance-august-2025/
LOCATION:Cosecha Community\, 2621 Nolensville Pike\, Nashville\, 37211\, United States
CATEGORIES:Class,Hands-on
ATTACH;FMTTYPE=image/jpeg:https://nashvillebikefun.org/wp-content/uploads/2025/07/BasicBikeMaintenance13up2025.jpg
END:VEVENT
BEGIN:VEVENT
DTSTART;TZID=America/Chicago:20250805T163000
DTEND;TZID=America/Chicago:20250805T183000
DTSTAMP:20260422T204333
CREATED:20250212T204647Z
LAST-MODIFIED:20250622T135108Z
UID:10002243-1754411400-1754418600@nashvillebikefun.org
SUMMARY:Bikes and Bites at the Community Dinner
DESCRIPTION:Bring your bike – we’ll help you figure it out.\nCome join us on the first Tuesday of the month at Trinity Community Commons. We’ll be at the Community Dinner with information on bike riding\, advocating for people who ride bikes in Nashville\, taking care of your bike\, and more. \nStay for the community dinner and meet neighbors who are passionate about making Nashville a more connected and vibrant place to live. \nIt’s free\nYou don’t have to pay anything to have your bike assessed. If you’d like to make a donation to either Bike Fun or Trinity Community Commons\, you are welcome to do so! \nFirst come\, first served\nOur basic fixes include fix-a-flat\, bolt safety checks\, and chain cleaning. We will have replacement tubes & tires on a first-come-first-served basis. Come see us and learn how to keep your bike in good riding shape! \n\nBike Fun is a non-profit whose mission is to create joyful riders in Middle Tennessee.\nTrinity Community Commons leverages sacred space to affirm and activate the worth and potential of all members of our community.
URL:https://nashvillebikefun.org/event/bikes-and-bites-at-the-community-dinner/2025-08-05/
LOCATION:Trinity Community Commons\, 204 East Trinity Lane\, Nashville\, TN\, 37027\, United States
CATEGORIES:Hands-on,Open House
ATTACH;FMTTYPE=image/jpeg:https://nashvillebikefun.org/wp-content/uploads/2025/02/2025-Community-Dinner-Bike-Repairs.jpg
END:VEVENT
BEGIN:VEVENT
DTSTART;TZID=America/Chicago:20250810T160000
DTEND;TZID=America/Chicago:20250810T180000
DTSTAMP:20260422T204333
CREATED:20250612T201831Z
LAST-MODIFIED:20250709T200042Z
UID:10002306-1754841600-1754848800@nashvillebikefun.org
SUMMARY:Confident Riding for Returning Adult Riders - August 2025
DESCRIPTION:Been out of the saddle for a while? Let’s get back on!\nThis free workshop for returning adult riders is geared towards bicycle riders who want to boost their confidence to ride in the neighborhood\, to ride with their community\, and to ride on their own. \nRegister here! \nTopics covered will include \n\nPre-ride bike check\nStrong starting and safe stopping\nScanning\, signalling\, and turning\nAssessing conditions when riding\n\nWho should take this class?\nThis class is designed for adult students who know how to ride a bike and want to increase their riding confidence after some time away from riding or for adults who have recently learned how to ride. Bike Fun has limited bicycles and helmets to use for students who need them. If you need a bicycle or helmet\, we have some available – just let us know on the registration form! \nWhat should I bring?\nIf you have a bicycle to ride that is in safe working condition\, please bring it! (Not sure if it’s in safe working condition? Bring it to a local bike shop for a once-over before the workshop\, or visit us at a Bike Lab Open Shop event to learn how to work on it yourself! We cannot repair bicycles on site.) \nBring a snack and some water. Bathrooms are available on site as needed. \nOther class details\nWe will work in the side parking lot and then apply the skills we learn during a short neighborhood ride. \nClass size is limited to 10 participants. \nThis class is free and open to the public. Donations to Bike Fun are welcome if you’d like to contribute to our programming and outreach!
URL:https://nashvillebikefun.org/event/confident-riding-for-returning-adult-riders-august-2025/
LOCATION:Bellevue UMC\, 7501 Old Harding Pike\, Nashville\, 37221
CATEGORIES:Class,Hands-on,Ride
ATTACH;FMTTYPE=image/jpeg:https://nashvillebikefun.org/wp-content/uploads/2025/05/ReturningAdultRidersConfidence.jpg
END:VEVENT
BEGIN:VEVENT
DTSTART;TZID=America/Chicago:20250816T090000
DTEND;TZID=America/Chicago:20250816T110000
DTSTAMP:20260422T204333
CREATED:20250616T133554Z
LAST-MODIFIED:20250731T013136Z
UID:10002308-1755334800-1755342000@nashvillebikefun.org
SUMMARY:7 & 8 Year Old Learn to Ride - August 2025
DESCRIPTION:You’re Never Too Old to Learn to Ride!\nThis course is for brand new riders who have either only pedaled on training wheels or who have tried without success to ride without training wheels. \nYou must register to attend – fill out the registration form below! If you need assistance with the fee\, contact us! \nDo you know a 7 or 8 year old who needs some help getting going on two wheels? Then we have something just for you! \nClass Details\nBike Fun is hosting a 7 & 8 Year Old Learn to Ride event. Get your kid started on their bicycling journey! \nThis course is for 7 and 8 year olds who have never pedaled a bicycle before. It covers the following topics: \n\nGetting onto the bike\nBasic balance\nStarting and stopping\nPedaling\nTurning\n\nCome learn how to ride in a safe and supportive environment. \nFor our learn to ride classes\, we emphasize exposure\, not expertise. Each human learns at their own pace\, and we work with each student within their own ability. \nSee our general agenda for group classes. Get your questions about group classes answered\, too. \nAges 7 & 8. Bicycles and helmets can be provided for those who would like to attend\, but don’t have their own bicycle yet. Please bring a water bottle/hydration and a snack! Bike Fun has limited snacks available and will have extra water. \n\n\n \nQuestions? Contact us for more specifics.
URL:https://nashvillebikefun.org/event/7-8-year-old-learn-to-ride-august-2025/
LOCATION:Cosecha Community\, 2621 Nolensville Pike\, Nashville\, 37211\, United States
CATEGORIES:Class,Hands-on
ATTACH;FMTTYPE=image/jpeg:https://nashvillebikefun.org/wp-content/uploads/2024/12/LearntoRide7-8YearOlds.jpg
END:VEVENT
BEGIN:VEVENT
DTSTART;TZID=America/Chicago:20250824T100000
DTEND;TZID=America/Chicago:20250824T130000
DTSTAMP:20260422T204333
CREATED:20250720T145641Z
LAST-MODIFIED:20250805T132722Z
UID:10002315-1756029600-1756040400@nashvillebikefun.org
SUMMARY:All Ages Learn to Ride - August 2025
DESCRIPTION:Get Rolling on Your Bicycle Journey\nBike Fun is lead teaching a course for EVERYBODY on learning (or relearning) how to ride a bicycle. This course is meant for brand new riders and for potential riders who are anxious about getting back on a bicycle after a long time away. \nWalk Bike Nashville is sponsoring the course. \n(Interested in volunteering to help us out? Fill out this form!) \n \nClass Details\nOn Sunday\, August 24th\, 2025\, Walk Bike Nashville hosts an EVERYBODY Learn to Ride event. Get started on your bike life and sign up today! \nPlease note: this class is for ages 7 and up and have limited tickets available for each age group! \nThis course is for people who have never pedaled a bicycle before or who have been away for decades! It will cover the following topics: \n\nGetting onto the bike\nBasic balance\nStarting and stopping\nPedaling\nTurning\n\nCome learn how to ride in a safe and supportive environment. \nDate: Sunday\, August 24th\, 2025\nTime: 10a-1p\nRegister: See REGISTRATION FORM below – you must register so we know what size bike to have for you\, and how many supplies for all students!\nLocation: TBD \nThis is a multigenerational\, all ages learn to ride class. We are limited to 25 students or fewer. Bicycles and helmets are provided. If you have your own bicycle\, you may bring it for us to assess for size\, functionality\, etc. \nBring water bottle\, preferred snack\, and wear comfortable clothing. \nThis event is OUTSIDE & WEATHER PENDING. Registrants will receive updates via text & email as needed. \n\n \nQuestions? Contact KJ for more specifics.
URL:https://nashvillebikefun.org/event/all-ages-learn-to-ride-august-2025/
LOCATION:TN
CATEGORIES:Class,Hands-on
ATTACH;FMTTYPE=image/png:https://nashvillebikefun.org/wp-content/uploads/2021/09/WBN-1600px-2021.png
ORGANIZER;CN="Walk Bike Nashville":MAILTO:ashleigh@walkbikenashville.org
END:VEVENT
END:VCALENDAR