BEGIN:VCALENDAR
VERSION:2.0
PRODID:-//BIKE FUN - ECPv6.15.20//NONSGML v1.0//EN
CALSCALE:GREGORIAN
METHOD:PUBLISH
X-WR-CALNAME:BIKE FUN
X-ORIGINAL-URL:https://nashvillebikefun.org
X-WR-CALDESC:Events for BIKE FUN
REFRESH-INTERVAL;VALUE=DURATION:PT1H
X-Robots-Tag:noindex
X-PUBLISHED-TTL:PT1H
BEGIN:VTIMEZONE
TZID:America/Chicago
BEGIN:DAYLIGHT
TZOFFSETFROM:-0600
TZOFFSETTO:-0500
TZNAME:CDT
DTSTART:20240310T080000
END:DAYLIGHT
BEGIN:STANDARD
TZOFFSETFROM:-0500
TZOFFSETTO:-0600
TZNAME:CST
DTSTART:20241103T070000
END:STANDARD
BEGIN:DAYLIGHT
TZOFFSETFROM:-0600
TZOFFSETTO:-0500
TZNAME:CDT
DTSTART:20250309T080000
END:DAYLIGHT
BEGIN:STANDARD
TZOFFSETFROM:-0500
TZOFFSETTO:-0600
TZNAME:CST
DTSTART:20251102T070000
END:STANDARD
BEGIN:DAYLIGHT
TZOFFSETFROM:-0600
TZOFFSETTO:-0500
TZNAME:CDT
DTSTART:20260308T080000
END:DAYLIGHT
BEGIN:STANDARD
TZOFFSETFROM:-0500
TZOFFSETTO:-0600
TZNAME:CST
DTSTART:20261101T070000
END:STANDARD
END:VTIMEZONE
BEGIN:VEVENT
DTSTART;TZID=America/Chicago:20250412T100000
DTEND;TZID=America/Chicago:20250412T140000
DTSTAMP:20260423T040432
CREATED:20250314T143359Z
LAST-MODIFIED:20250411T005435Z
UID:10002199-1744452000-1744466400@nashvillebikefun.org
SUMMARY:Nashville Bicycle Festival - April 2025
DESCRIPTION:Let’s ride a bike!\nGoing strong into its third year\, the new moniker for the festival is the \nNashville Bicycle Festival\nThis event brings together a wide variety of bicycling enthusiasts – from supporters to mechanics\, from beginners to experienced cyclists\, from commuters to mountain bikers to cargo haulers and more. \nWhen: Saturday\, April 12th\, 10A-2P\nWhere: South Inglewood Community Center\, 1624 Rebecca Street (approach from Moore Street if not on foot/on a bike) \n \nWhat: Block printing of bicycle art (bring your own t-shirt if you want!)\, slow bicycle race\, bicycle parade\, best dressed bicycle contest\, HUB bike blitz\, helmet fittings & giveaways\, bike sizing & giveaways\, rider & bicycle visibility station\, & more. See our participant list below! \nDo you want to help volunteer at the festival? Thank you! Sign up here.\nBike Fun is grateful to have received a grant for a third year from the Inglewood Neighborhood Association in support of this event. We are also thankful for our location partner\, the South Inglewood Community Center! \nIf there’s inclement weather\, the Bicycle Festival will be held inside the South Inglewood Community Center. Otherwise\, we’ll be outside! \n What's going on during the Nashville Bicycle Festival? In addition to the tables and activities from festival participants\, Bike Fun will have 4 stations for attendees: a basic bicycle maintenance station (with bike giveaways) hosted by Oasis Bike Workshopa gear swap table (take something\, leave something! or just take something!) hosted by Friends of Shelbya helmet fitting station (with adult & kid helmet giveaways) hosted by Monroe Carell Jr Children's Hospitala station with crafts to make your bike or bike helmet more fun and visible Nashville Bicycle Festival schedule 10:00am Festival opens11:00am ALL AGES balance bike race with Bike Fun (with prizes)11:30am Slow Bicycle Race (with prizes)12:00pm CARRY THAT challenge with Nashville Cargo Bike Community (with prizes)Ongoing bike parts/accessories swap tablebicycle giveawayshelmet giveawayshelmet fittingrider/bicycle visibilitybike rodeo with Bike Walk Franklin2:00pm Festival closes How much does it cost to attend the Nashville Bicycle Festival? This event is free & open to the public.  What's this got to do with 30 Days of Biking? The month of April is the season for 30 Days of Biking. Ride your bike every day for 30 days - and get another ride in during the festival! \nPhotography by Sasha Grkvnk PHOTOGRAPHY \nMusic by DJ Leslie \nParticipants and Supporters\nParticipants with booths or activities\n\nBarge Design\nBCycle\nBike Fun\nCivic Design Center\nDavid Greaves Art\nFriends of Shelby Park and Bottoms\nInglewood Elementary School\nJeff Roth Cycling Foundation\nLime\nMoveVU\nMusic City BMX\nMusic City Dope Pedalers\nNashville Cargo Bikers\nNashville Connector\nNashville Department of Transportation and Multimodal Infrastructure\nNashville Public Library – Inglewood branch\nNICA GRiT (Girls Riding Together)\nOasis Bike Workshop\nSORBA Mid-TN\nSafety Herd\nTreeCycle\nUrban Bicycle Food Ministry\nVanderbilt University Pediatric Trauma Injury Prevention\nWalk Bike Nashville\nWeGo\n\nFood and beverage\n\nPie Town Tacos\nKona Ice of North Nashville\nRoast and Brews\n\nSponsors\nFull Suspension ($500-1000)\n\n\n\nNashville Department of Transportation and Multimodal Infrastructure\nFairpointe Planning\nInglewood Neighborhood Association (grant)\n\n\n\nFat Tire ($250-450)\n\n\n\nBCycle\nLime\nMusic City Adventure Co.\nRide615\nTrace Bikes\n\n\n\nCommuter ($100-200)\n\n\n\n8th & Roast\nBarge Design\nMitchell Deli\nMoveVU\n\n\n\nCruiser (in-kind contributions)\n\n\n\nCumberland Transit\nEarly Childhood Mobilty Coalition\nGreen Fleet Bikes\nPatagonia\nREI (Brentwood)\nRydeSafe\nShelby Ave Bicycle Co\nTrek Bicycle (Franklin)\n\n\n\nHybrid (individual contributions) \n\n\n\nMary Johnston & Carey Rogers
URL:https://nashvillebikefun.org/event/nashville-bicycle-festival-april-2025/
LOCATION:South Inglewood Community Center\, 1624 Rebecca St\, Nashville\, TN\, 37216\, United States
CATEGORIES:30 Days of Biking,Class,Open House,Ride
ATTACH;FMTTYPE=image/png:https://nashvillebikefun.org/wp-content/uploads/2025/01/1600-Bicycle-Festival-2025.png
END:VEVENT
BEGIN:VEVENT
DTSTART;TZID=America/Chicago:20250416T160000
DTEND;TZID=America/Chicago:20250416T180000
DTSTAMP:20260423T040432
CREATED:20250406T145500Z
LAST-MODIFIED:20250508T184640Z
UID:10002264-1744819200-1744826400@nashvillebikefun.org
SUMMARY:Chains\, Trains\, No Automobiles
DESCRIPTION:Tired of the driving grind?\nCombine your travel trips with chains\, train(s)\, and leave the automobile behind. Join Nashville Connector\, WeGo Public Transit\, and Bike Fun to learn about getting your two wheels up to speed with bike loading demos on a WeGo bus and the WeGo Star. \nWe will teach you hands on HOW TO board a bus (and train!) with your bike so you can use transit to expand the range of your bike commute. \nPlease register here! \nMeet NashConnector\, WeGo Public Transit and Bike Fun representatives at Riverfront Station on Wednesday\, April 16th\, 2025 at 4:00 PM prior to the WeGo Star departure. \nDate: Wednesday\, April 16th\nTime: 4 PM-6ish PM\nLocation: Riverfront Station\, 108 1st Ave\, Nashville 37201\nRegistration: Click here \nThe closest bus stop is at Broadway & 2nd Ave\, but there are several nearby depending on your route. \nQuestions? Contact us for more specifics.
URL:https://nashvillebikefun.org/event/chains-trains-no-automobiles/
LOCATION:Riverfront Station\, 108 1st Ave South\, Nashville\, TN\, 37201\, United States
CATEGORIES:Hands-on,Presentation
ATTACH;FMTTYPE=image/jpeg:https://nashvillebikefun.org/wp-content/uploads/2025/04/2025-04-ChainsTrains-FB.jpg
END:VEVENT
BEGIN:VEVENT
DTSTART;TZID=America/Chicago:20250426T100000
DTEND;TZID=America/Chicago:20250426T120000
DTSTAMP:20260423T040432
CREATED:20250212T190323Z
LAST-MODIFIED:20250418T170012Z
UID:10002238-1745661600-1745668800@nashvillebikefun.org
SUMMARY:5 & 6 Year Old Learn to Ride - April 2025
DESCRIPTION:Class now sold out – waitlist available\nYou’re Never Too Old to Learn to Ride!\nThis course is for brand new riders who have either only pedaled on training wheels or who have tried without success to ride without training wheels. \nYou must register to attend – fill out this registration form! Class size limited to 5 students. Registration fee is $20-25. If you need assistance with the fee\, contact us! \nDo you know a 5 or 6 year old who needs some help getting going on two wheels? Then we have something just for you! \nClass Details\nBike Fun is hosting a 5 & 6 Year Old Learn to Ride event. Get your kid started on their bicycling journey! \nThis course is for 5 and 6 year olds who have never pedaled a bicycle before. It covers the following topics: \n\nGetting onto the bike\nBasic balance\nStarting and stopping\nPedaling\nTurning\n\nCome learn how to ride in a safe and supportive environment. \nFor our learn to ride classes\, we emphasize exposure\, not expertise. Each human learns at their own pace\, and we work with each student within their own ability. \nSee our general agenda for group classes. Get your questions about group classes answered\, too. \nAges 5 & 6. Bicycles and helmets can be provided for those who would like to attend\, but don’t have their own bicycle yet. Please bring a water bottle/hydration and a snack! Bike Fun has limited snacks available and will have extra water. \nDate: Saturday\, April 26th\nTime: 10 AM -12 PM\nLocation: Cosecha Community at Woodbine UMC\, Nashville 37211 \nQuestions? Contact us for more specifics.
URL:https://nashvillebikefun.org/event/5-6-year-old-learn-to-ride-april-2025/
LOCATION:Cosecha Community\, 2621 Nolensville Pike\, Nashville\, 37211\, United States
CATEGORIES:Class,Hands-on
ATTACH;FMTTYPE=image/jpeg:https://nashvillebikefun.org/wp-content/uploads/2025/02/LearntoRide5-6YearOlds.jpg
END:VEVENT
BEGIN:VEVENT
DTSTART;TZID=America/Chicago:20250427T130000
DTEND;TZID=America/Chicago:20250427T160000
DTSTAMP:20260423T040432
CREATED:20250210T211519Z
LAST-MODIFIED:20250306T141053Z
UID:10002237-1745758800-1745769600@nashvillebikefun.org
SUMMARY:All Ages Learn to Ride  - April 2025
DESCRIPTION:Get Rolling on Your Bicycle Journey\nBike Fun is lead teaching a course for EVERYBODY on learning (or relearning) how to ride a bicycle. This course is meant for brand new riders and for potential riders who are anxious about getting back on a bicycle after a long time away. \nWalk Bike Nashville is sponsoring the course. \n(Interested in volunteering to help us out? Fill out this form!) \n \nClass Details\nOn Sunday\, April 27th\, 2025\, Walk Bike Nashville hosts an EVERYBODY Learn to Ride event. Get started on your bike life and sign up today! \nThis course is for people who have never pedaled a bicycle before or who have been away for decades! It will cover the following topics: \n\nGetting onto the bike\nBasic balance\nStarting and stopping\nPedaling\nTurning\n\nCome learn how to ride in a safe and supportive environment. \nDate: Sunday\, April 27th\, 2025\nTime: 1p-4p\nRegister: REGISTRATION FORM  – you must register so we know what size bike to have for you\, and how many supplies for all students!\nLocation: Bellevue UMC\, 7501 Old Harding Pike\, Nashville\, TN 37221 \nThis is a multigenerational\, all ages learn to ride class. We are limited to 25 students or fewer. Bicycles and helmets are provided. If you have your own bicycle\, you may bring it for us to assess for size\, functionality\, etc. \nBring water bottle\, preferred snack\, and wear comfortable clothing. \nThis event is OUTSIDE & WEATHER PENDING. Registrants will receive updates via text & email as needed. \nQuestions? Contact KJ for more specifics.
URL:https://nashvillebikefun.org/event/all-ages-learn-to-ride-april-2025/
LOCATION:Bellevue UMC\, 7501 Old Harding Pike\, Nashville\, 37221
CATEGORIES:Class,Hands-on
ATTACH;FMTTYPE=image/png:https://nashvillebikefun.org/wp-content/uploads/2021/09/WBN-1600px-2021.png
ORGANIZER;CN="Walk Bike Nashville":MAILTO:ashleigh@walkbikenashville.org
END:VEVENT
END:VCALENDAR