BEGIN:VCALENDAR
VERSION:2.0
PRODID:-//BIKE FUN - ECPv6.15.20//NONSGML v1.0//EN
CALSCALE:GREGORIAN
METHOD:PUBLISH
X-ORIGINAL-URL:https://nashvillebikefun.org
X-WR-CALDESC:Events for BIKE FUN
REFRESH-INTERVAL;VALUE=DURATION:PT1H
X-Robots-Tag:noindex
X-PUBLISHED-TTL:PT1H
BEGIN:VTIMEZONE
TZID:UTC
BEGIN:STANDARD
TZOFFSETFROM:+0000
TZOFFSETTO:+0000
TZNAME:UTC
DTSTART:20240101T000000
END:STANDARD
END:VTIMEZONE
BEGIN:VTIMEZONE
TZID:America/Chicago
BEGIN:DAYLIGHT
TZOFFSETFROM:-0600
TZOFFSETTO:-0500
TZNAME:CDT
DTSTART:20240310T080000
END:DAYLIGHT
BEGIN:STANDARD
TZOFFSETFROM:-0500
TZOFFSETTO:-0600
TZNAME:CST
DTSTART:20241103T070000
END:STANDARD
BEGIN:DAYLIGHT
TZOFFSETFROM:-0600
TZOFFSETTO:-0500
TZNAME:CDT
DTSTART:20250309T080000
END:DAYLIGHT
BEGIN:STANDARD
TZOFFSETFROM:-0500
TZOFFSETTO:-0600
TZNAME:CST
DTSTART:20251102T070000
END:STANDARD
BEGIN:DAYLIGHT
TZOFFSETFROM:-0600
TZOFFSETTO:-0500
TZNAME:CDT
DTSTART:20260308T080000
END:DAYLIGHT
BEGIN:STANDARD
TZOFFSETFROM:-0500
TZOFFSETTO:-0600
TZNAME:CST
DTSTART:20261101T070000
END:STANDARD
END:VTIMEZONE
BEGIN:VEVENT
DTSTART;TZID=UTC:20250322T100000
DTEND;TZID=UTC:20250322T140000
DTSTAMP:20260423T141908
CREATED:20250212T210910Z
LAST-MODIFIED:20250212T211226Z
UID:10002246-1742637600-1742652000@nashvillebikefun.org
SUMMARY:Bike Fun Bike Lab at Shelby Recreation Open House
DESCRIPTION:Come join Bike Fun\, Friends of Shelby Park\, and other community groups at the fourth annual Shelby Recreation Open House on Saturday\, March 22. This event will highlight all the fun activities available in Shelby and the wider Parks system. \nBike Fun will be operating the mobile Bike Lab\, which will help you get a grounding in keeping your bike roll-ready for the upcoming spring riding season! Bring your bike & learn about tires\, brakes\, and chains. We will have tools for you to work on your bike – and expert help to guide you along the way. \nDon’t miss out on your chance to win fun prizes at the ALL AGES BALANCE BIKE RACE! Sign up at the Bike Fun booth and meet us at 1pm! Bike Fun will have bikes on hand\, or bring your own! \nFind more information and booth locations at the Friends of Shelby Park website. \nCommon maintenance issues include: \n\nCleaning your drivetrain\nAdjusting tension in cables (brakes and shifting)\nFixing a flat tire\nPatching an inner tube\nGeneral cleaning\nChecking bolts for tightness\nChecking cassette/freewheel and crankset sprockets for wear
URL:https://nashvillebikefun.org/event/bike-fun-bike-lab-at-shelby-recreation-open-house-2025/
LOCATION:Shelby Community Center\, 401 South 20th Street\, Nashville\, TN\, 37206\, United States
CATEGORIES:Hands-on,Open House
ATTACH;FMTTYPE=image/jpeg:https://nashvillebikefun.org/wp-content/uploads/2025/02/ShelbyRecOpenHouse2025.jpg
END:VEVENT
BEGIN:VEVENT
DTSTART;TZID=America/Chicago:20250329T130000
DTEND;TZID=America/Chicago:20250329T150000
DTSTAMP:20260423T141908
CREATED:20241221T153455Z
LAST-MODIFIED:20250306T150653Z
UID:10002194-1743253200-1743260400@nashvillebikefun.org
SUMMARY:7 & 8 Year Old Learn to Ride - March 2025
DESCRIPTION:You’re Never Too Old to Learn to Ride!\nThis course is for brand new riders who have either only pedaled on training wheels or who have tried without success to ride without training wheels. \nWAITLIST ONLY – class spots are full \nYou must register to attend – fill out this registration form! Class size limited to 5 students. Registration fee is $20-25. If you need assistance with the fee\, contact us! \nDo you know a 7 or 8 year old who needs some help getting going on two wheels? Then we have something just for you! \nClass Details\nBike Fun is hosting a 7 & 8 Year Old Learn to Ride event. Get your kid started on their bicycling journey! \nThis course is for 7 and 8 year olds who have never pedaled a bicycle before. It covers the following topics: \n\nGetting onto the bike\nBasic balance\nStarting and stopping\nPedaling\nTurning\n\nCome learn how to ride in a safe and supportive environment. \nFor our learn to ride classes\, we emphasize exposure\, not expertise. Each human learns at their own pace\, and we work with each student within their own ability. \nSee our general agenda for group classes. Get your questions about group classes answered\, too. \nAges 7 & 8. Bicycles and helmets can be provided for those who would like to attend\, but don’t have their own bicycle yet. Please bring a water bottle/hydration and a snack! Bike Fun has limited snacks available and will have extra water. \nDate: Saturday\, March 29th\nTime: 1-3 PM\nLocation: Cosecha Community at Woodbine UMC\, Nashville 37211 \nQuestions? Contact us for more specifics.
URL:https://nashvillebikefun.org/event/7-8-year-old-learn-to-ride-march-2025/
LOCATION:Cosecha Community\, 2621 Nolensville Pike\, Nashville\, 37211\, United States
CATEGORIES:Class,Hands-on
ATTACH;FMTTYPE=image/jpeg:https://nashvillebikefun.org/wp-content/uploads/2024/12/LearntoRide7-8YearOlds.jpg
END:VEVENT
END:VCALENDAR